BEGIN:VCALENDAR
VERSION:2.0
PRODID:-//ChamberMaster//Event Calendar 2.0//EN
METHOD:PUBLISH
X-PUBLISHED-TTL:P3D
REFRESH-INTERVAL:P3D
CALSCALE:GREGORIAN
BEGIN:VEVENT
DTSTART:20230109T230000Z
DTEND:20230110T003000Z
X-MICROSOFT-CDO-ALLDAYEVENT:FALSE
SUMMARY:01.09.23 Santa Clara Business Council
DESCRIPTION:This is a geographic Council focused on business in the City of Santa Clara! If you live\, work\, or play in the City of Santa Clara\; or\, you want to... This Council is for you. To learn more about the niche groups of like-mined SVC Chamber Members that form Councils\, check out the webpage Councils: Where Do You Fit In.
X-ALT-DESC;FMTTYPE=text/html:<span style="font-size:14px\;"><span style="color: rgb(34\, 34\, 34)\; font-family: &quot\;Fira Sans&quot\;\, sans-serif\;">This is a geographic Council focused on business in the City of Santa Clara! If you live\, work\, or play in the City of Santa Clara\; or\, you want to... This Council is for you. To learn more about the niche groups of like-mined SVC Chamber Members that form Councils\, check out the webpage <a href="https://www.svcentralchamber.com/councils-where-do-you-fit-in/">Councils: Where Do You Fit In</a>.</span></span>
LOCATION:Hybrid. Come in-person to: 3350 Scott Blvd.\, Bld 54\, Santa Clara\, CA 95054-3124.
UID:e.3535.4355
SEQUENCE:3
DTSTAMP:20260425T113230Z
URL:https://members.svcentralchamber.com/events/details/01-09-23-santa-clara-business-council-4355
END:VEVENT

END:VCALENDAR
