BEGIN:VCALENDAR
VERSION:2.0
PRODID:-//ChamberMaster//Event Calendar 2.0//EN
METHOD:PUBLISH
X-PUBLISHED-TTL:P3D
REFRESH-INTERVAL:P3D
CALSCALE:GREGORIAN
BEGIN:VEVENT
DTSTART:20110113T153000Z
DTEND:20110113T163000Z
X-MICROSOFT-CDO-ALLDAYEVENT:FALSE
SUMMARY:01.13.11 Business Growth Generators Group (BGGG)
DESCRIPTION:This group meets every Thursday\, 7:30 to 8:30 a.m. at the Santa Clara Chamber of Commerce\, 1850 Warburton Avenue\, Santa Clara.  This group is chaired by Sandy Barrett of ADT.  Members of the group include: \n\n\n	Sandy Barrett\, ADT \n	Pier L. Del Frate\, Postnet \n	Janet Haverland\, Hallmark Construction \n	Bob Koch\, Wells  Fargo \n	Sashi Nand\, S&S Gifts \n	Kelly Parker\, Charity Car Donations \n	Steve Rainbolt\, Waddell & Reed \n	Satish Ullal\, Ullal Insurance Services \n	Frank Walsh\, William MIchael Automotive \n\n\nMust be a Chamber member in good standing to join. Membership in a Connection Club is included in your annual dues (does not include breakfast). \n\nFor more information\, please call Carol Zimring at (408) 380-1236.
X-ALT-DESC;FMTTYPE=text/html:<p><font face="Arial" size="2"><font face="Arial" size="2">This group meets every Thursday\, 7:30 to 8:30 a.m. at the Santa Clara Chamber of Commerce\, 1850 Warburton Avenue\, Santa Clara.&nbsp\; This group is chaired by&nbsp\;Sandy Barrett of ADT.&nbsp\; Members of the group include:</font> </font></p>\n\n<ul>\n	<li><font face="Arial" size="2"><font face="Arial" size="2">Sandy Barrett\, ADT</font> </font></li>\n	<li><font face="Arial" size="2"><font face="Arial" size="2">Pier L. Del Frate\, Postnet</font> </font></li>\n	<li><font face="Arial" size="2"><font face="Arial" size="2">Janet Haverland\, Hallmark Construction</font> </font></li>\n	<li><font face="Arial" size="2"><font face="Arial" size="2">Bob Koch\, Wells&nbsp\; Fargo</font> </font></li>\n	<li><font face="Arial" size="2"><font face="Arial" size="2">Sashi Nand\, S&amp\;S Gifts</font> </font></li>\n	<li><font face="Arial" size="2"><font face="Arial" size="2">Kelly Parker\, Charity Car Donations</font> </font></li>\n	<li><font face="Arial" size="2"><font face="Arial" size="2">Steve Rainbolt\, Waddell &amp\; Reed</font> </font></li>\n	<li><font face="Arial" size="2"><font face="Arial" size="2">Satish Ullal\, Ullal Insurance Services</font> </font></li>\n	<li><font face="Arial" size="2"><font face="Arial" size="2">Frank Walsh\, William MIchael Automotive</font> </font></li>\n</ul>\n\n<p><font face="Arial" size="2"><font face="Arial" size="2">Must be a Chamber member in good standing to join. Membership in a Connection Club is included in your annual dues (does not include breakfast).</font> </font></p>\n\n<p><font face="Arial" size="2"><font face="Arial" size="2">For more information\, please call Carol Zimring at (408) 380-1236.</font> </font></p>\n
LOCATION:1850 Warburton Ave.\, Santa Clara\, CA 95050
UID:e.3535.157
SEQUENCE:3
DTSTAMP:20260421T161803Z
URL:https://members.svcentralchamber.com/events/details/01-13-11-business-growth-generators-group-bggg-157
END:VEVENT

END:VCALENDAR
