BEGIN:VCALENDAR
VERSION:2.0
PRODID:-//ChamberMaster//Event Calendar 2.0//EN
METHOD:PUBLISH
X-PUBLISHED-TTL:P3D
REFRESH-INTERVAL:P3D
CALSCALE:GREGORIAN
BEGIN:VEVENT
DTSTART:20110304T193000Z
DTEND:20110304T210000Z
X-MICROSOFT-CDO-ALLDAYEVENT:FALSE
SUMMARY:03.04.11 First Friday-''Three Common Mistakes Employers Make That May Lead to Lawsuits''
DESCRIPTION:Attend this program to steer clear of making these mistakes and avoid not only the out of pocket expenses but the emotional distress a lawsuit can place on your business.  By the end of the presentation\, you will learn:\n\n\n	The importance of writing down  employee feedback\n	How to provide proper meal and rest breaks to employees\n	Why you should always take a claim of discrimination\, harassment and retaliation seriously\n\n\nWhether you have employees or hope to hire employees in the near future\, do not miss this. Walk away with the knowledge to help you avoid a costly lawsuit!\n\nThe session is being presented by Michelle Mendoza\, a Senior Professional Human Resource consultant with Connect to HR.  This is a brown-bag luncheon\, so bring your lunch along with you.  Networking and lunch will take place from 11:30 a.m. to 12:00 p.m.  Michelle's presentation\, followed by Q & A will take place from 12-1 p.m. \n\nMembers are welcome to attend this event at no charge.  To RSVP\, please click the registration button above.  Non-members:  please contact Carol Zimring at (408) 380-1236 to find out how you can attend this seminar.
X-ALT-DESC;FMTTYPE=text/html:<p>Attend this program to steer clear of making these mistakes and avoid not only the out of pocket expenses but the emotional distress a lawsuit can place on your business.&nbsp\; By the end of the presentation\, you will learn:</p>\n\n<ul>\n	<li>The importance of writing down&nbsp\; employee feedback</li>\n	<li>How to provide proper meal and rest breaks to employees</li>\n	<li>Why you should always take a claim of discrimination\, harassment and retaliation seriously</li>\n</ul>\n\n<p>Whether you have employees or hope to hire employees in the near future\, do not miss this. Walk away with the knowledge to help you avoid a costly lawsuit!</p>\n\n<p>The session is being presented by Michelle Mendoza\, a Senior Professional Human Resource consultant with Connect to HR.&nbsp\;&nbsp\;This is a brown-bag luncheon\, so bring your lunch along with you.&nbsp\; Networking and lunch will take place from 11:30 a.m. to 12:00 p.m.&nbsp\; Michelle&#39\;s presentation\, followed by Q &amp\; A will take place from 12-1 p.m.&nbsp\;</p>\n\n<p>Members are welcome to attend this event at no charge.&nbsp\; To RSVP\, please click the registration button above.&nbsp\; Non-members:&nbsp\; please contact Carol Zimring at (408) 380-1236 to find out how you can attend this seminar.</p>\n
LOCATION:1850 Warburton Ave.\, Santa Clara\, CA 95050
UID:e.3535.291
SEQUENCE:3
DTSTAMP:20260421T150004Z
URL:https://members.svcentralchamber.com/events/details/03-04-11-first-friday-three-common-mistakes-employers-make-that-may-lead-to-lawsuits-291
END:VEVENT

END:VCALENDAR
