BEGIN:VCALENDAR
VERSION:2.0
PRODID:-//ChamberMaster//Event Calendar 2.0//EN
METHOD:PUBLISH
X-PUBLISHED-TTL:P3D
REFRESH-INTERVAL:P3D
CALSCALE:GREGORIAN
BEGIN:VEVENT
DTSTART:20230314T233000Z
DTEND:20230315T010000Z
X-MICROSOFT-CDO-ALLDAYEVENT:FALSE
SUMMARY:03.14.23 Executive Committee Meeting
DESCRIPTION:This is a closed meeting. It is not open to the public\, Chamber Members\, or any other uninvited guests.\n\nThe Silicon Valley Central Chamber of Commerce (SVC Chamber) Chamber year runs from July 1st to June 30th. Thus\, Officers elected to the Board serve during that same Chamber year.
X-ALT-DESC;FMTTYPE=text/html:This is a closed meeting. It is not open to the public\, Chamber Members\, or any other uninvited guests.<br />\nThe Silicon Valley Central Chamber of Commerce (SVC Chamber) Chamber year runs from July 1st to June 30th. Thus\, Officers elected to the Board serve during that same Chamber year.
LOCATION:Undisclosed location.
UID:e.3535.4021
SEQUENCE:3
DTSTAMP:20260425T203551Z
URL:https://members.svcentralchamber.com/events/details/03-14-23-executive-committee-meeting-4021
END:VEVENT

END:VCALENDAR
