BEGIN:VCALENDAR
VERSION:2.0
PRODID:-//ChamberMaster//Event Calendar 2.0//EN
METHOD:PUBLISH
X-PUBLISHED-TTL:P3D
REFRESH-INTERVAL:P3D
CALSCALE:GREGORIAN
BEGIN:VEVENT
DTSTART:20110330T003000Z
DTEND:20110330T023000Z
X-MICROSOFT-CDO-ALLDAYEVENT:FALSE
SUMMARY:03.29.11 5th Tuesday Joint Mixer
DESCRIPTION:The Santa Clara and Sunnyvale Chambers of Commerce are pleased to present the first 5th Tuesday of 2011.  Get your networking into high gear at this event!  To RSVP for this first 5th Tuesday\, please RSVP online.  Members who RSVP by Friday\, March 25th are admitted at no charge\; those who register after March 25th and by March 28th are $10\; and non-members and walk-ins are $20.
X-ALT-DESC;FMTTYPE=text/html:The Santa Clara and Sunnyvale Chambers of Commerce are pleased to present the first 5th Tuesday of 2011.&nbsp\; Get your&nbsp\;networking into high gear at this event!&nbsp\; To RSVP for this first 5th Tuesday\, please RSVP online.&nbsp\; Members who RSVP by Friday\, March 25th are admitted at no charge\; those who register after March 25th and by March 28th are $10\; and non-members and walk-ins are $20.&nbsp\;
LOCATION:2500 El Camino Real\, Santa Clara\, CA 95051
UID:e.3535.289
SEQUENCE:3
DTSTAMP:20260421T145451Z
URL:https://members.svcentralchamber.com/events/details/03-29-11-5th-tuesday-joint-mixer-289
END:VEVENT

END:VCALENDAR
