BEGIN:VCALENDAR
VERSION:2.0
PRODID:-//ChamberMaster//Event Calendar 2.0//EN
METHOD:PUBLISH
X-PUBLISHED-TTL:P3D
REFRESH-INTERVAL:P3D
CALSCALE:GREGORIAN
BEGIN:VEVENT
DTSTART:20100331T003000Z
DTEND:20100331T023000Z
X-MICROSOFT-CDO-ALLDAYEVENT:FALSE
SUMMARY:03.30.10 5th Tuesday Joint Mixer
DESCRIPTION:The Santa Clara and Sunnyvale Chambers of Commerce are pleased to present the first 5th Tuesday of 2010. Our host\, Rooster T. Feathers Comedy Club\, will provide a fun and memorable location to get your networking into high gear. To RSVP for this first 5th Tuesday\, please RSVP online. Members who RSVP by Friday\, March 26th are admitted at no charge\; those who register after March 26th are $5\; and non-members and walk-ins are $20. Rooster T. Feathers is located at 157 W. El Camino Real\, between Mathilda and Sunnyvale Avenues. Parking is limited to either street parking or across El Camino Real in the Cherry Glen Shopping Center. Please make sure to allow yourself time to find appropriate parking.
X-ALT-DESC;FMTTYPE=text/html:The Santa Clara and Sunnyvale Chambers of Commerce are pleased to present the first 5th Tuesday of 2010. Our host\, Rooster T. Feathers Comedy Club\, will provide a fun and memorable location to get your networking into high gear. To RSVP for this first 5th Tuesday\, please RSVP online. Members who RSVP by Friday\, March 26th are admitted at no charge\; those who register after March 26th are $5\; and non-members and walk-ins are $20. Rooster T. Feathers is located at 157 W. El Camino Real\, between Mathilda and Sunnyvale Avenues. Parking is limited to either street parking or across El Camino Real in the Cherry Glen Shopping Center. Please make sure to allow yourself time to find appropriate parking.
LOCATION:157 W. El Camino Real\, Sunnyvale\, CA 94087
UID:e.3535.43
SEQUENCE:3
DTSTAMP:20260422T085757Z
URL:https://members.svcentralchamber.com/events/details/03-30-10-5th-tuesday-joint-mixer-43
END:VEVENT

END:VCALENDAR
