BEGIN:VCALENDAR
VERSION:2.0
PRODID:-//ChamberMaster//Event Calendar 2.0//EN
METHOD:PUBLISH
X-PUBLISHED-TTL:P3D
REFRESH-INTERVAL:P3D
CALSCALE:GREGORIAN
BEGIN:VEVENT
DTSTART:20110401T183000Z
DTEND:20110401T200000Z
X-MICROSOFT-CDO-ALLDAYEVENT:FALSE
SUMMARY:04.01.11 First Friday
DESCRIPTION:Join us on Friday\, April 1st for our First Friday session from 11:30 a.m. to 1:00 p.m.  This session will cover marketing trends now and in the future.  Dawn Barreras and Nicole Bellemare of One Umbrella Marketing will lead the session\, discussing email marketing and social media trends that you may use in your business.\n\nTo RSVP for this event\, please click the "register" button above. There is no charge for members in good standing to attend this event.  Non-members:  please contact Carol Zimring at (408) 380-1236 to find out how you can attend this informational session.
X-ALT-DESC;FMTTYPE=text/html:<p>Join us on Friday\, April 1st for our <em>First Friday </em>session from 11:30 a.m. to 1:00 p.m.&nbsp\; This session will cover marketing trends now and in the future.&nbsp\; Dawn Barreras and Nicole Bellemare of One Umbrella Marketing will lead the session\, discussing email marketing and social media trends that you may use in your business.</p>\n\n<p>To RSVP for this event\, please click the &quot\;register&quot\; button above. There is no charge for members in good standing to attend this event.&nbsp\; Non-members:&nbsp\; please contact Carol Zimring at (408) 380-1236 to find out how you can attend this informational session.</p>\n
LOCATION:1850 Warburton Ave.\, Santa Clara\, CA 95050
UID:e.3535.294
SEQUENCE:3
DTSTAMP:20260421T115157Z
URL:https://members.svcentralchamber.com/events/details/04-01-11-first-friday-294
END:VEVENT

END:VCALENDAR
