BEGIN:VCALENDAR
VERSION:2.0
PRODID:-//ChamberMaster//Event Calendar 2.0//EN
METHOD:PUBLISH
X-PUBLISHED-TTL:P3D
REFRESH-INTERVAL:P3D
CALSCALE:GREGORIAN
BEGIN:VEVENT
DTSTART:20110420T000000Z
DTEND:20110420T020000Z
X-MICROSOFT-CDO-ALLDAYEVENT:FALSE
SUMMARY:04.19.11 April Mixer
DESCRIPTION:Join us at our April mixer host\, Pizza Party\, for an opportunity to meet our newest members and enjoy the hospitality of the Pizza Party staff.  To RSVP\, please click the "Register" button above.  Members who RSVP by Friday\, April 15 will attend at no charge.  Those who register after the 15th will be charged a late registration fee of $5.  Non-members are $10.  Advanced registration closes on Monday\, April 18-anyone not registered by this time may register onsite.  Pizza Party is located at 3581 Homestead Road in Santa Clara.
X-ALT-DESC;FMTTYPE=text/html:<p>Join us at our April mixer host\, Pizza Party\, for an opportunity to meet our newest members and enjoy the hospitality of the Pizza Party staff.&nbsp\; To RSVP\, please click the &quot\;Register&quot\; button above.&nbsp\; Members who RSVP by Friday\, April 15 will attend at no charge.&nbsp\; Those who register after the 15th will be charged a late registration fee of $5.&nbsp\; Non-members are $10.&nbsp\; Advanced registration closes on Monday\, April 18-anyone not registered by this time may register onsite.&nbsp\; Pizza Party is located at 3581 Homestead Road in Santa Clara.</p>\n
LOCATION:3581 Homestead Road\, Santa Clara\, CA 95051
UID:e.3535.293
SEQUENCE:3
DTSTAMP:20260421T115432Z
URL:https://members.svcentralchamber.com/events/details/04-19-11-april-mixer-293
END:VEVENT

END:VCALENDAR
