BEGIN:VCALENDAR
VERSION:2.0
PRODID:-//ChamberMaster//Event Calendar 2.0//EN
METHOD:PUBLISH
X-PUBLISHED-TTL:P3D
REFRESH-INTERVAL:P3D
CALSCALE:GREGORIAN
BEGIN:VEVENT
DTSTART:20090429T140000Z
DTEND:20090430T020000Z
X-MICROSOFT-CDO-ALLDAYEVENT:FALSE
SUMMARY:04.29.09 ACCESS Sacramento
DESCRIPTION:A day of advocacy for advancing priorities to secure the future of Silicon Valley and California \n\n    \n\nJoin the Santa Clara Chamber of Commerce & Convention-Visitors Bureau\, along with the Chambers of Commerce Coalition of Santa Clara County for a day of legislative action.  Attendees will have the opportunity to meet with legislative leaders to hear what they are doing to improve  California  's economic outlook and ask questions about legislative issues that are impacting business today.    \n\nIncluded with registration is transportation to and from the state capitol (from/to San Jose )\, continental breakfast\, meetings with select legislative leaders\, a luncheon program\, and beverages and snacks on the way back to Silicon Valley .  To find out more about this program\, please contact the Chamber at (408) 244-8244.
X-ALT-DESC;FMTTYPE=text/html:<p align="center" class="MsoBodyText" style="MARGIN: 0in 0in 0pt\; TEXT-ALIGN: center"><i style="mso-bidi-font-style: normal"><span style="FONT-SIZE: 14pt\; FONT-FAMILY: 'Californian FB'"><font face="Arial"><font size="3"><!--?xml:namespace prefix = o ns = "urn:schemas-microsoft-com:office:office" /-->A day of advocacy for advancing priorities to secure the future of Silicon Valley and California<o:p></o:p> </font></font></span></i></p>\n\n<p align="center" class="MsoBodyText" style="MARGIN: 0in 0in 0pt\; TEXT-ALIGN: center"><i style="mso-bidi-font-style: normal"><span style="FONT-SIZE: 9pt\; FONT-FAMILY: 'Californian FB'"><o:p> <font face="Arial" size="3">&nbsp\;</font> </o:p> </span></i></p>\n\n<p align="center" class="MsoBodyText" style="MARGIN: 0in 0in 0pt\; TEXT-ALIGN: center"><span style="FONT-SIZE: 11pt\; FONT-FAMILY: 'Californian FB'"><font face="Arial"><font size="3">Join the Santa Clara Chamber of Commerce &amp\; Convention-Visitors Bureau\, along with the Chambers of Commerce Coalition of Santa Clara County for a day of legislative action.<span style="mso-spacerun: yes">&nbsp\; </span><!--?xml:namespace prefix = st1 ns = "urn:schemas-microsoft-com:office:smarttags" /-->Attendees will have the opportunity to meet with legislative leaders to hear what they are doing to improve <st1:state w:st="on"> <st1:place w:st="on">California</st1:place> </st1:state> &rsquo\;s economic outlook and ask questions about legislative issues that are impacting business today.<span style="mso-spacerun: yes">&nbsp\; </span> <o:p></o:p> </font></font></span></p>\n\n<p align="center" class="MsoBodyText" style="MARGIN: 0in 0in 0pt\; TEXT-ALIGN: center"><span style="FONT-SIZE: 11pt\; FONT-FAMILY: 'Californian FB'"><font face="Arial"><font size="3">Included with registration is transportation to and from the state capitol (from/to <st1:city w:st="on">San Jose</st1:city> )\, continental breakfast\, meetings with select legislative leaders\, a luncheon program\, and beverages and snacks on the way back to <st1:place w:st="on">Silicon Valley</st1:place> .<span style="mso-spacerun: yes">&nbsp\; </span>To find out more about this program\, please contact the Chamber at (408) 244-8244.<o:p></o:p> </font></font></span></p>\n
LOCATION:1850 Warburton Ave.\, Santa Clara\, CA 95050
UID:e.3535.5
SEQUENCE:3
DTSTAMP:20260423T053653Z
URL:https://members.svcentralchamber.com/events/details/04-29-09-access-sacramento-5
END:VEVENT

END:VCALENDAR
