BEGIN:VCALENDAR
VERSION:2.0
PRODID:-//ChamberMaster//Event Calendar 2.0//EN
METHOD:PUBLISH
X-PUBLISHED-TTL:P3D
REFRESH-INTERVAL:P3D
CALSCALE:GREGORIAN
BEGIN:VEVENT
DTSTART:20090501T003000Z
DTEND:20090501T023000Z
X-MICROSOFT-CDO-ALLDAYEVENT:FALSE
SUMMARY:04.30.09 5th Thursday Joint Mixer
DESCRIPTION:Star One Credit Union is hosting the April 2009 5th Thursday Joint Mixer! Join members from the Santa Clara and Sunnyvale Chamber\, and our special invited guests from the Cupertino Chamber of Commerce to this great networking event. To RSVP to the Santa Clara Chamber of Commerce & Convention-Visitors Bureau\, please visit our website at www.santaclarachamber.org or call (408) 244-8244. The reservation deadline is Tuesday\, April 28th at 12 noon. Prior to the deadline\, members have complimentary admission\; after the deadline\, the cost is $5 for Chamber members. The cost for guests is always $20.
X-ALT-DESC;FMTTYPE=text/html:Star One Credit Union is hosting the April 2009 5th Thursday Joint Mixer! Join members from the Santa Clara and Sunnyvale Chamber\, and our special invited guests from the Cupertino Chamber of Commerce to this great networking event. To RSVP to the Santa Clara Chamber of Commerce &amp\; Convention-Visitors Bureau\, please visit our website at www.santaclarachamber.org or call (408) 244-8244. The reservation deadline is Tuesday\, April 28th at 12 noon. Prior to the deadline\, members have complimentary admission\; after the deadline\, the cost is $5 for Chamber members. The cost for guests is always $20.
LOCATION:1080 Enterprise Way\, Suite 150\, Sunnyvale\, CA 94089
UID:e.3535.4
SEQUENCE:3
DTSTAMP:20260423T035333Z
URL:https://members.svcentralchamber.com/events/details/04-30-09-5th-thursday-joint-mixer-4
END:VEVENT

END:VCALENDAR
