BEGIN:VCALENDAR
VERSION:2.0
PRODID:-//ChamberMaster//Event Calendar 2.0//EN
METHOD:PUBLISH
X-PUBLISHED-TTL:P3D
REFRESH-INTERVAL:P3D
CALSCALE:GREGORIAN
BEGIN:VEVENT
DTSTART:20110506T183000Z
DTEND:20110506T200000Z
X-MICROSOFT-CDO-ALLDAYEVENT:FALSE
SUMMARY:05.06.11 First Friday
DESCRIPTION:The topic for our May First Friday is "How to be seen as a business resource instead of a business card shark".  John Waller of The On Hold Experience will share his many years of networking and business-building experience in this interactive session.  You'll learn the best question you'll ever hear or ask at a networking event.  Members may attend First Fridays at no charge.  Non-members:  please call Carol Zimring at (408) 380-1236.
X-ALT-DESC;FMTTYPE=text/html:<font face="Calibri">The topic for our May <strong><em><font color="#8080ff">First Friday</font></em></strong> is &quot\;How to be seen as a business resource instead of a business card shark&quot\;.&nbsp\; John Waller of <a href="http://www.santaclarachamber.org/Telephone-on-Hold-Marketing-Services/The-On-Hold-Experience">The On Hold Experience</a>&nbsp\;will share his many&nbsp\;years of networking and business-building experience in this interactive session.&nbsp\; You&#39\;ll learn the best question you&#39\;ll ever hear or ask at a networking event.&nbsp\; Members may attend <strong><em><font color="#8080ff">First Fridays</font></em></strong> at no charge.&nbsp\; Non-members:&nbsp\; please call Carol Zimring at (408) 380-1236.</font>
LOCATION:1850 Warburton Ave.\, Santa Clara\, CA 95050
UID:e.3535.331
SEQUENCE:3
DTSTAMP:20260421T114614Z
URL:https://members.svcentralchamber.com/events/details/05-06-11-first-friday-331
END:VEVENT

END:VCALENDAR
