BEGIN:VCALENDAR
VERSION:2.0
PRODID:-//ChamberMaster//Event Calendar 2.0//EN
METHOD:PUBLISH
X-PUBLISHED-TTL:P3D
REFRESH-INTERVAL:P3D
CALSCALE:GREGORIAN
BEGIN:VEVENT
DTSTART:20110601T003000Z
DTEND:20110601T023000Z
X-MICROSOFT-CDO-ALLDAYEVENT:FALSE
SUMMARY:05.31.11 5th Tuesday Joint Mixer
DESCRIPTION:The Santa Clara Chamber of Commerce & Convention-Visitors Bureau\, in partnership with the Sunnyvale Chamber of Commerce\, are proud to present our next 5th Tuesday Joint Mixer.  The hosts for this exciting networking event are the Hilton Garden Inn-Cupertino.  Our special invited guests for this mixer are from the Silicon Valley Young Professionals.  Enjoy the hospitality of the staff at the Hilton Garden Inn while making new business connections.  Members who RSVP by Friday\, May 27 attend at no charge\; those who RSVP after the 27th and by the 30th will be charged $10.  Non-members and walk-ins are $20.\n\nThe Hilton Garden Inn-Cupertino is located at 10741 North Wolfe Road in Cupertino\, just off of Highway 280.\n\nAdvanced registration closes on Monday\, May 30th.
X-ALT-DESC;FMTTYPE=text/html:<p>The Santa Clara Chamber of Commerce &amp\; Convention-Visitors Bureau\, in partnership with the Sunnyvale Chamber of Commerce\, are proud to present our next 5th Tuesday Joint Mixer.&nbsp\; The hosts for this exciting networking event are the Hilton Garden Inn-Cupertino.&nbsp\; Our special invited guests for this mixer are from the Silicon Valley Young Professionals.&nbsp\; Enjoy the hospitality of the staff at the Hilton Garden Inn while making new business connections.&nbsp\; Members who RSVP by Friday\, May 27 attend at no charge\; those who RSVP after the 27th and by the 30th will be charged $10.&nbsp\; Non-members and walk-ins are $20.</p>\n\n<p>The Hilton Garden Inn-Cupertino is located at 10741 North Wolfe Road in Cupertino\, just off of Highway 280.</p>\n\n<p>Advanced registration closes on Monday\, May 30th.</p>\n
LOCATION:Hilton Garden Inn-Cupertino\, Cupertino\, CA 95014
UID:e.3535.330
SEQUENCE:3
DTSTAMP:20260423T085319Z
URL:https://members.svcentralchamber.com/events/details/05-31-11-5th-tuesday-joint-mixer-330
END:VEVENT

END:VCALENDAR
