BEGIN:VCALENDAR
VERSION:2.0
PRODID:-//ChamberMaster//Event Calendar 2.0//EN
METHOD:PUBLISH
X-PUBLISHED-TTL:P3D
REFRESH-INTERVAL:P3D
CALSCALE:GREGORIAN
BEGIN:VEVENT
DTSTART:20110603T183000Z
DTEND:20110603T200000Z
X-MICROSOFT-CDO-ALLDAYEVENT:FALSE
SUMMARY:06.03.11 First Friday
DESCRIPTION:Thank you for your interest in the First Friday\, scheduled for today.  We are postponing the event until the fall\, when more information about the ERISA changes will be available.  Please watch for more information to come!\n\n-------------------------\n\nJoin us on Friday\, June 3rd for our next First Friday session.  This session will provide a legal update on recent regulatory and legislative changes which impact qualified retirement plans and health and welfare arrangements.  Lunch will be provided by Specialty's Caf  & Bakery.\n\nOur presenters are Jeanine DeBacker\, chair of Hoge\, Fenton\, Jones & Appel Inc. Employment Law practice and Matthew Prentice of Merrill Lynch.  Members attend our First Friday series as a benefit of membership.  Although there is not a charge for members to attend\, we do need an RSVP as lunch will be provided.  To RSVP\, please login as a member and then click the link above.  Non-members should contact Carol Zimring\, Membership Investment Manager at (408) 380-1236 for information.
X-ALT-DESC;FMTTYPE=text/html:<p>Thank you for your interest in the First Friday\, scheduled for today.&nbsp\; We are postponing the event until the fall\, when more information about the ERISA changes will be available.&nbsp\; Please watch for more information to come!</p>\n\n<p>-------------------------</p>\n\n<p>Join us on Friday\, June 3rd for our next First Friday session.&nbsp\; This session will provide a legal update on recent regulatory and legislative changes which impact qualified retirement plans and health and welfare arrangements.&nbsp\; Lunch will be provided by <a href="http://www.santaclarachamber.com/Restaurants/Specialty's-Cafe-Bakery">Specialty&rsquo\;s Caf&eacute\; &amp\; Bakery</a>.</p>\n\n<p>Our presenters are Jeanine DeBacker\, chair of Hoge\, Fenton\, Jones &amp\; Appel Inc. Employment Law practice and Matthew Prentice of <a href="http://www.santaclarachamber.com/Financial-Services/Merrill-Lynch-Wealth-ManagementMatthew-Prentice">Merrill Lynch</a>.&nbsp\; Members attend our First Friday series as a benefit of membership.&nbsp\; Although there is not a charge for members to attend\, we do need an RSVP as lunch will be provided.&nbsp\; To RSVP\, please login as a member and then click the link above.&nbsp\; Non-members should contact Carol Zimring\, Membership Investment Manager at (408) 380-1236 for information.</p>\n
LOCATION:1850 Warburton Ave.\, Santa Clara\, CA 95050
UID:e.3535.339
SEQUENCE:3
DTSTAMP:20260421T085020Z
URL:https://members.svcentralchamber.com/events/details/06-03-11-first-friday-339
END:VEVENT

END:VCALENDAR
