BEGIN:VCALENDAR
VERSION:2.0
PRODID:-//ChamberMaster//Event Calendar 2.0//EN
METHOD:PUBLISH
X-PUBLISHED-TTL:P3D
REFRESH-INTERVAL:P3D
CALSCALE:GREGORIAN
BEGIN:VEVENT
DTSTART:20100630T003000Z
DTEND:20100630T023000Z
X-MICROSOFT-CDO-ALLDAYEVENT:FALSE
SUMMARY:06.29.10 5th Tuesday Joint Mixer
DESCRIPTION:Please join us for the next 5th Tuesday of 2010. Members of both the Sunnyvale and Santa Clara Chambers of Commerce will meet and make business connections while enjoying the hospitality of the Sports Basement staff. Members in good standing who RSVP by June 25 attend at no charge\; those who RSVP after this date will incur a late registration fee of $5. All others are $10 at the door.
X-ALT-DESC;FMTTYPE=text/html:Please join us for the next 5th Tuesday of 2010. Members of both the Sunnyvale and Santa Clara Chambers of Commerce will meet and make business connections while enjoying the hospitality of the Sports Basement staff. Members in good standing who RSVP by June 25 attend at no charge\; those who RSVP after this date will incur a late registration fee of $5. All others are $10 at the door.
LOCATION:Sports Basement\, Sunnyvale\, CA 94085 (408) 732-0300
UID:e.3535.52
SEQUENCE:3
DTSTAMP:20260422T051319Z
URL:https://members.svcentralchamber.com/events/details/06-29-10-5th-tuesday-joint-mixer-52
END:VEVENT

END:VCALENDAR
