BEGIN:VCALENDAR
VERSION:2.0
PRODID:-//ChamberMaster//Event Calendar 2.0//EN
METHOD:PUBLISH
X-PUBLISHED-TTL:P3D
REFRESH-INTERVAL:P3D
CALSCALE:GREGORIAN
BEGIN:VEVENT
DTSTART:20090731T003000Z
DTEND:20090731T023000Z
X-MICROSOFT-CDO-ALLDAYEVENT:FALSE
SUMMARY:07.30.09 5th Thursday Joint Mixer
DESCRIPTION:5th Thursday Joint Mixer is a partnership program between the Santa Clara and Sunnyvale Chambers of Commerce. Members may register for no charge up until Tuesday\, July 28th at noon\, after this date/time it is $5 per member. Cost for not-yet members is $20.
X-ALT-DESC;FMTTYPE=text/html:5th Thursday Joint Mixer is a partnership program between the Santa Clara and Sunnyvale Chambers of Commerce. Members may register for no charge up until Tuesday\, July 28th at noon\, after this date/time it is $5 per member. Cost for not-yet members is $20.
LOCATION:Belmont Village\, Sunnyvale\, CA 94087 For directions\, please call (408) 720-8498. Parking is limited\, so The Domain Hotel (1085 E. El Camino Real\, Sunnyvale) is offering shuttle service. Please park in their parking lot and proceed to the lobby for shuttle service to and from the event.
UID:e.3535.17
SEQUENCE:3
DTSTAMP:20260423T000951Z
URL:https://members.svcentralchamber.com/events/details/07-30-09-5th-thursday-joint-mixer-17
END:VEVENT

END:VCALENDAR
