BEGIN:VCALENDAR
VERSION:2.0
PRODID:-//ChamberMaster//Event Calendar 2.0//EN
METHOD:PUBLISH
X-PUBLISHED-TTL:P3D
REFRESH-INTERVAL:P3D
CALSCALE:GREGORIAN
BEGIN:VEVENT
DTSTART:20100818T000000Z
DTEND:20100818T020000Z
X-MICROSOFT-CDO-ALLDAYEVENT:FALSE
SUMMARY:08.17.10 August Mixer
DESCRIPTION:Join us at our host location\, Mondo Burrito for an enjoyable evening of networking and business building.  You'll have the opportunity to try the many tasty delights that Mondo Burrito is famous for\, while meeting our newest members. \n\nMembers attend our monthly mixers at no charge\; non-members are $10.  Non-member may visit any combination of our mixers (monthly\, 5th Tuesday or S3 Tri-Chamber Mixer) two times before they join the Chamber.  To learn more about how your business may benefit from membership in the Santa Clara Chamber of Commerce & Convention-Visitors Bureau\, please contact James De Anda\, Membership Investment Manager.  He may be reached directly at (408) 380-1236. \n\nAdvance registration will be accepted until Friday\, August 13th.  Any RSVP's after this date will be taken on-site.  To RSVP\, please complete the information below. \n\nMondo Burrito is located at 3300 North Alameda in Santa Clara.  Limited parking is available in the lot adjacent to the restaurant-additional parking is available on the streets surrounding Mondo Burrito.
X-ALT-DESC;FMTTYPE=text/html:<p><font face="Arial" size="2">Join us at our host location\, <strong><em><font color="red"><a href="http://www.mondoburrito.com/"><font color="red">Mondo </font><font color="red">Burrito</font></a>&nbsp\;</font></em></strong>for an enjoyable evening of networking and business building.&nbsp\; You&#39\;ll have the opportunity to try the many tasty delights that Mondo Burrito is famous for\, while meeting our newest members. </font></p>\n\n<p><font face="Arial" size="2">Members attend our monthly mixers at no charge\; non-members are $10.&nbsp\; Non-member may visit any combination of our mixers (monthly\, 5th Tuesday or S3 Tri-Chamber Mixer) two&nbsp\;times before they join the Chamber.&nbsp\; To learn more about how your business may benefit from membership in the Santa Clara Chamber of Commerce &amp\; Convention-Visitors Bureau\, please contact James De Anda\, Membership Investment Manager.&nbsp\; He may be reached directly at (408) 380-1236. </font></p>\n\n<p><font face="Arial" size="2">Advance registration will be accepted until Friday\, August 13th.&nbsp\; Any RSVP&#39\;s after this date will be taken on-site.&nbsp\; To RSVP\, please complete the information below. </font></p>\n\n<p><font face="Arial" size="2"><a href="http://www.mondoburrito.com/"><font color="red">Mondo Burrito</font></a>&nbsp\;is located at 3300 North Alameda in Santa Clara.&nbsp\; Limited parking is available in the lot adjacent to the restaurant-additional parking is available on the streets surrounding Mondo Burrito. </font></p>\n
LOCATION:3300 North Alameda\, Santa Clara\, CA 95050
UID:e.3535.66
SEQUENCE:3
DTSTAMP:20260422T000955Z
URL:https://members.svcentralchamber.com/events/details/08-17-10-august-mixer-66
END:VEVENT

END:VCALENDAR
