BEGIN:VCALENDAR
VERSION:2.0
PRODID:-//ChamberMaster//Event Calendar 2.0//EN
METHOD:PUBLISH
X-PUBLISHED-TTL:P3D
REFRESH-INTERVAL:P3D
CALSCALE:GREGORIAN
BEGIN:VEVENT
DTSTART:20090819T000000Z
DTEND:20090819T020000Z
X-MICROSOFT-CDO-ALLDAYEVENT:FALSE
SUMMARY:08.18.09 August Mixer
DESCRIPTION:Monthly Member Mixer-hosted by William Michael Automotive. Opportunity to network and make new business connections. New members will be introduced and receive their plaques.
X-ALT-DESC;FMTTYPE=text/html:Monthly Member Mixer-hosted by William Michael Automotive. Opportunity to network and make new business connections. New members will be introduced and receive their plaques.
LOCATION:1800 Richard Avenue\, Santa Clara\, CA 95050
UID:e.3535.18
SEQUENCE:3
DTSTAMP:20260422T222207Z
URL:https://members.svcentralchamber.com/events/details/08-18-09-august-mixer-18
END:VEVENT

END:VCALENDAR
