BEGIN:VCALENDAR
VERSION:2.0
PRODID:-//ChamberMaster//Event Calendar 2.0//EN
METHOD:PUBLISH
X-PUBLISHED-TTL:P3D
REFRESH-INTERVAL:P3D
CALSCALE:GREGORIAN
BEGIN:VEVENT
DTSTART:20100909T143000Z
DTEND:20100909T153000Z
X-MICROSOFT-CDO-ALLDAYEVENT:FALSE
SUMMARY:09.09.10 Business Growth Generators Group (BGGG)
DESCRIPTION:This group meets every Thursday\,  7:30 to 8:30 a.m. at the Santa Clara Chamber of Commerce\, 1850 Warburton Avenue\,  Santa Clara.This group is chaired by Frank Walsh of William Michael Automotive.  Members of the group include: \n\n \n\n \n\n \n\n \n\n \n\n\n\n	\n	Cindy Arnett\, William Jessup University
X-ALT-DESC;FMTTYPE=text/html:<p class="MsoBodyText" style="MARGIN: 0in 0in 0pt"><span style="FONT-SIZE: 10pt"><font face="Arial">This group meets every Thursday\, <time hour="7" minute="30" w:st="on"> 7:30 to 8:30 a.m.&nbsp\;at the Santa Clara Chamber of Commerce\, 1850 Warburton Avenue\, <city w:st="on"> Santa Clara.<span span="span" style="mso-spacerun: yes">This group is chaired by&nbsp\;Frank Walsh of William Michael Automotive.&nbsp\;<span style="mso-spacerun: yes">&nbsp\;</span>Members of the group include: </span></city></time></font></span></p>\n\n<p>&nbsp\;</p>\n\n<p class="MsoBodyText" style="MARGIN: 0in 0in 0pt">&nbsp\;</p>\n\n<p>&nbsp\;</p>\n\n<p>&nbsp\;</p>\n\n<p>&nbsp\;</p>\n\n<div class="Section2">\n<ul>\n	<li>\n	<div class="MsoBodyText" style="TEXT-INDENT: -0.25in\; MARGIN: 0in 0in 0pt 0.5in\; mso-list: l0 level1 lfo1\; tab-stops: list .5in"><font face="Arial"><span style="FONT-FAMILY: Symbol\; FONT-SIZE: 10pt\; mso-fareast-font-family: Symbol\; mso-bidi-font-family: Symbol"><span style="mso-list: Ignore"><font face="Arial">Cindy Arnett\, William Jessup University</font></span></span> </font></div>\n	</li>\n</ul>\n</div>\n
LOCATION:1850 Warburton Ave.\, Santa Clara\, CA 95050
UID:e.3535.141
SEQUENCE:3
DTSTAMP:20260421T223405Z
URL:https://members.svcentralchamber.com/events/details/09-09-10-business-growth-generators-group-bggg-141
END:VEVENT

END:VCALENDAR
