BEGIN:VCALENDAR
VERSION:2.0
PRODID:-//ChamberMaster//Event Calendar 2.0//EN
METHOD:PUBLISH
X-PUBLISHED-TTL:P3D
REFRESH-INTERVAL:P3D
CALSCALE:GREGORIAN
BEGIN:VEVENT
DTSTART:20110120T013000Z
DTEND:20110120T033000Z
X-MICROSOFT-CDO-ALLDAYEVENT:FALSE
SUMMARY:1.19.11 S3 Tri-Chamber Mixer & Mini Expo
DESCRIPTION:Kick off your new year at this great tri-chamber mixer. The Santa Clara Convention Center plays host to the January S3 Tri-Chamber Mixer & Mini-Expo. Get your networking in high gear while you mix and mingle with more than 500 business representatives and owners in Silicon Valley. Members who RSVP by Friday\, January 14 will attend at no-charge\; after the 14th and by the 18th the late registration fee for members is $10. Non-members and any on-site registration is $20. Please click the button above to RSVP.
X-ALT-DESC;FMTTYPE=text/html:Kick off your new year at this great tri-chamber mixer. The Santa Clara Convention Center plays host to the January S3 Tri-Chamber Mixer &amp\; Mini-Expo. Get your networking in high gear while you mix and mingle with more than 500 business representatives and owners in Silicon Valley. Members who RSVP by Friday\, January 14 will attend at no-charge\; after the 14th and by the 18th the late registration fee for members is $10. Non-members and any on-site registration is $20. Please click the button above to RSVP.
LOCATION:5001 Great America Pkwy\, Santa Clara\, CA 95054
UID:e.3535.148
SEQUENCE:3
DTSTAMP:20260421T175723Z
URL:https://members.svcentralchamber.com/events/details/1-19-11-s3-tri-chamber-mixer-mini-expo-148
END:VEVENT

END:VCALENDAR
