BEGIN:VCALENDAR
VERSION:2.0
PRODID:-//ChamberMaster//Event Calendar 2.0//EN
METHOD:PUBLISH
X-PUBLISHED-TTL:P3D
REFRESH-INTERVAL:P3D
CALSCALE:GREGORIAN
BEGIN:VEVENT
DTSTART:20101201T013000Z
DTEND:20101201T033000Z
X-MICROSOFT-CDO-ALLDAYEVENT:FALSE
SUMMARY:11.30.10 5th Tuesday Joint Mixer & Holiday Showcase
DESCRIPTION:Get ready for the holidays at our last 5th Tuesday Joint mixer of 2010.  Featured at this event will be a Holiday Showcase of our local businesses that offer services for you to use during the holidays.  Take this time to make new business connections with the members of the Santa Clara and Sunnyvale Chambers.  To become part of the Showcase\, please click here to download the registration form. Only 5 businesses per chamber will be allowed to exhibit\, so register now!  Registration is limited to those members whose business offers gift or other holiday related services (i.e. shipping\, calligraphy/invitations\, party planning\, jewelry or other gift items\, food or wine\, catering\, party venue\, electronics\, etc.).  Selling of services/products will be allowed on-site.  To RSVP\, please click the registration button above.  RSVP's will be accepted until Friday\, November 26\, 2010.  Members who register by this time will be free of charge-after this date the fee for members increases to $5.  Non-members are $20.
X-ALT-DESC;FMTTYPE=text/html:<font face="Arial" size="2">Get ready for the holidays at our last 5th Tuesday Joint mixer of 2010.&nbsp\; Featured at this event will be a Holiday Showcase of our local businesses that offer services for you to use during the holidays.&nbsp\; Take this time to make new business connections with the members of the Santa Clara and Sunnyvale Chambers.&nbsp\; To become part of the Showcase\, please <a href="http://www.santaclarachamber.com/external/wcpages/wcwebcontent/webcontentpage.aspx?contentid=215">click here</a>&nbsp\;to download the registration form. Only 5 businesses per chamber will be allowed to exhibit\, so register now!&nbsp\; Registration is limited to those members whose&nbsp\;business offers gift or other holiday related services (i.e. shipping\, calligraphy/invitations\, party planning\, jewelry or other gift items\, food or wine\, catering\, party venue\, electronics\, etc.).&nbsp\; Selling of services/products will be allowed on-site.&nbsp\; To RSVP\, please click the registration button above.&nbsp\; RSVP&#39\;s will be accepted until Friday\, November 26\, 2010.&nbsp\; Members who register by this time will be free of charge-after this date the fee for members increases to $5.&nbsp\; Non-members are $20.</font>
LOCATION:2505 Augustine Drive\, Suite 100\, Santa Clara\, CA 95054
UID:e.3535.188
SEQUENCE:3
DTSTAMP:20260421T210204Z
URL:https://members.svcentralchamber.com/events/details/11-30-10-5th-tuesday-joint-mixer-holiday-showcase-188
END:VEVENT

END:VCALENDAR
