BEGIN:VCALENDAR
VERSION:2.0
PRODID:-//ChamberMaster//Event Calendar 2.0//EN
METHOD:PUBLISH
X-PUBLISHED-TTL:P3D
REFRESH-INTERVAL:P3D
CALSCALE:GREGORIAN
BEGIN:VEVENT
DTSTART:20101215T153000Z
DTEND:20101215T163000Z
X-MICROSOFT-CDO-ALLDAYEVENT:FALSE
SUMMARY:12.15.10 Breakfast of Champions Connection Club
DESCRIPTION:This group meets every Wednesday\, EXCEPT the first Wednesday of each month\, from 7:30 a.m. to 8:30 a.m. at the Santa Clara Chamber of Commerce\, 1850 Warburton Avenue\, Santa Clara.  Early risers willing to form a team for business support & leads are invited to attend.  This group is chaired by Rena Flovin with Alliance Occupational Medicine.\n\n \n\nMembers of the group include:\n\n \n\n  \n\n\n	Jill Arroyo\, P G & E\n	Richard Dayton\, The   Dayton /  /  Law Firm  \n	Maria Edmonds Zediker\, Financial Planner \n	Rena Flovin\, Alliance Occupational Medicine \n	Marit Fox\, Abundant Admin Services \n	Karen Lapinski\, Lapinski Law \n	Gene Lennon\, Right at Home \n	Christine McCormick\, CPA\, Lautze & Lautze CPA's & Financial Advisors  \n	Brigette O'Connor\, Realtor\, Intero Real Estate Services  \n	Michael O'Connor\, Cedar Mortgage  \n	Yemi Ade Ojo\, Valley Credit Union \n	Carolyn Steinberg\, Alliance Occupational Medicine \n\n\nTo learn how you can become part of this group\, please call Carol Zimring\, Membership Investment Manager\, at (408) 380-1236.
X-ALT-DESC;FMTTYPE=text/html:<p class="MsoBodyText" style="MARGIN: 0in 0in 0pt"><span style="FONT-SIZE: 12pt"><font face="Arial"><font size="2">This group meets every Wednesday\, EXCEPT the first Wednesday of each month\, from 7:30 a.m. to 8:30 a.m. at the Santa Clara Chamber of Commerce\, </font></font></span><span style="FONT-SIZE: 12pt"><font face="Arial"><font size="2">1850 Warburton Avenue\, Santa Clara.<span style="mso-spacerun: yes">&nbsp\; </span>Early risers willing to form a team for business support &amp\; leads are invited to attend. <span style="mso-spacerun: yes">&nbsp\;</span>This group is chaired by Rena Flovin with Alliance Occupational Medicine.</font></font></span></p>\n\n<p class="MsoBodyText" style="MARGIN: 0in 0in 0pt">&nbsp\;</p>\n\n<p class="MsoBodyText" style="MARGIN: 0in 0in 0pt"><span style="FONT-SIZE: 12pt"><font face="Arial"><font size="2">Members of the group include:</font></font></span></p>\n\n<p class="MsoBodyText" style="MARGIN: 0in 0in 0pt">&nbsp\;</p>\n\n<p class="MsoBodyText" style="MARGIN: 0in 0in 0pt"><span style="FONT-SIZE: 12pt"><font face="Arial"><font size="2">&nbsp\; </font></font></span></p>\n\n<ul>\n	<li><span style="FONT-SIZE: 10pt"><font face="Tahoma">Jill Arroyo\, P G &amp\; E</font></span></li>\n	<li><span style="FONT-SIZE: 10pt"><font face="Tahoma">Richard Dayton\, The <place w:st="on"> <city w:st="on"> Dayton /&gt\; /&gt\; Law Firm <font face="Tahoma"> </font></city></place></font></span></li>\n	<li><font face="Tahoma"><font face="Tahoma"><span style="FONT-SIZE: 10pt"><font face="Tahoma">Maria Edmonds Zediker\, Financial Planner</font></span> </font></font></li>\n	<li><font face="Tahoma"><font face="Tahoma"><span style="FONT-SIZE: 10pt">Rena Flovin\, Alliance Occupational Medicine</span> </font></font></li>\n	<li><font face="Tahoma"><font face="Tahoma">Marit Fox\, Abundant Admin Services </font></font></li>\n	<li><font face="Tahoma"><font face="Tahoma"><font face="Tahoma"><font face="Tahoma"><font face="Tahoma"><font face="Tahoma"><span style="FONT-SIZE: 10pt"><font face="Tahoma"><font face="Tahoma"><span style="FONT-SIZE: 10pt"><font face="Tahoma">Karen Lapinski\, Lapinski Law</font></span></font></font></span></font></font></font></font> </font></font></li>\n	<li><font face="Tahoma"><font face="Tahoma"><font face="Tahoma"><font face="Tahoma"><font face="Tahoma"><font face="Tahoma"><span style="FONT-SIZE: 10pt"><font face="Tahoma"><font face="Tahoma"><span style="FONT-SIZE: 10pt">Gene Lennon\, Right at Home</span></font></font></span></font></font></font></font> </font></font></li>\n	<li><font face="Tahoma"><font face="Tahoma"><font face="Tahoma"><font face="Tahoma"><font face="Tahoma"><font face="Tahoma"><span style="FONT-SIZE: 10pt"><font face="Tahoma"><font face="Tahoma"><span style="FONT-SIZE: 10pt"><font face="Tahoma">Christine McCormick\, CPA\, Lautze &amp\; Lautze CPA&rsquo\;s &amp\; Financial Advisors </font></span><font face="Tahoma"> </font></font></font></span></font></font></font></font></font></font></li>\n	<li><font face="Tahoma"><font face="Tahoma"><font face="Tahoma"><font face="Tahoma"><font face="Tahoma"><span style="FONT-SIZE: 10pt"><font face="Tahoma">Brigette O&rsquo\;Connor\, Realtor\, Intero Real Estate Services </font></span><font face="Tahoma"> </font></font></font></font></font></font></li>\n	<li><font face="Tahoma"><font face="Tahoma"><font face="Tahoma"><font face="Tahoma"><font face="Tahoma"><span style="FONT-SIZE: 10pt"><font face="Tahoma">Michael O&rsquo\;Connor\, Cedar Mortgage </font></span> </font></font></font></font></font></li>\n	<li><font face="Tahoma"><font face="Tahoma"><font face="Tahoma"><font face="Tahoma"><span style="FONT-SIZE: 10pt">Yemi Ade Ojo\, Valley Credit Union</span> </font></font></font></font></li>\n	<li><font face="Tahoma"><font face="Tahoma"><font face="Tahoma"><font face="Tahoma"><span style="FONT-SIZE: 10pt">Carolyn Steinberg\, Alliance Occupational Medicine</span> </font></font></font></font></li>\n</ul>\n\n<p><font face="Tahoma"><font face="Tahoma"><font face="Tahoma"><font face="Tahoma"><span style="FONT-SIZE: 10pt">To learn how you can become part of this group\, please call Carol Zimring\, Membership Investment Manager\, at (408) 380-1236.</span> </font></font></font></font></p>\n
LOCATION:1850 Warburton Ave.\, Santa Clara\, CA 95050
UID:e.3535.121
SEQUENCE:3
DTSTAMP:20260421T180543Z
URL:https://members.svcentralchamber.com/events/details/12-15-10-breakfast-of-champions-connection-club-121
END:VEVENT

END:VCALENDAR
