BEGIN:VCALENDAR
VERSION:2.0
PRODID:-//ChamberMaster//Event Calendar 2.0//EN
METHOD:PUBLISH
X-PUBLISHED-TTL:P3D
REFRESH-INTERVAL:P3D
CALSCALE:GREGORIAN
BEGIN:VEVENT
DTSTART:20240818T003000Z
DTEND:20240818T040000Z
X-MICROSOFT-CDO-ALLDAYEVENT:FALSE
SUMMARY:Annual Dinner Live Auction Fundraiser for the 55th Santa Clara Parade of Champions
DESCRIPTION:Our Biggest Fundraiser of the Year for the 55th Santa Clara Parade of Champions is just weeks away and you are invited! Since 1945 when we welcomed home our WWII Veterans\, we have continued to celebrate our Champions\, community and frontline Heroes\, for generations\, with a community parade and festival\, raised funds for our year-round charitable initiatives that support Youth Scholarship and Internships\, Veterans\, and Families facing medical crisis\, and made lifelong connections and memories. \n\n\n\nJoin us for a good cause\, as we gather and help raise money for our heroes and most vulnerable in our community.  We can't do it without you--it takes a village.  The Santa Clara Parade of Champion organization is grateful for all the love and support for this legacy event every year.  Many ways to get involved.  To learn more about our nonprofit 501c3\, to sponsor the event\, volunteer\, donate an auction item\, or purchase tickets for this memorable event visit our website here:  Annual Dinner Dance   SC Parade of Champions
X-ALT-DESC;FMTTYPE=text/html:Our Biggest Fundraiser of the Year for the 55th Santa Clara Parade of Champions is just weeks away and you are invited! Since 1945 when we welcomed home our WWII Veterans\, we have continued to celebrate our Champions\, community and frontline Heroes\, for generations\, with a community parade and festival\, raised funds for our year-round charitable initiatives that support Youth Scholarship and Internships\, Veterans\, and Families facing medical crisis\, and made lifelong connections and memories.&nbsp\;<br />\n<br />\nJoin us for a good cause\, as we gather and help raise money for our heroes and most vulnerable in our community.&nbsp\; We can&#39\;t do it without you--it takes a village.&nbsp\; The Santa Clara Parade of Champion organization is grateful for all the love and support for this legacy event every year.&nbsp\; Many ways to get involved.&nbsp\; To learn more about our nonprofit 501c3\, to sponsor the event\, volunteer\, donate an auction item\, or purchase tickets for this memorable event visit our website here:&nbsp\;&nbsp\;<a href="https://www.scparadeofchampions.org/annual-dinner-dance">Annual Dinner Dance &mdash\; SC Parade of Champions</a><br />\n&nbsp\;
LOCATION:S.E.S. 1375 Lafayette Street Santa Clara\, CA 95050
UID:e.3535.4969
SEQUENCE:3
DTSTAMP:20260421T103826Z
URL:https://members.svcentralchamber.com/events/details/annual-dinner-live-auction-fundraiser-for-the-55th-santa-clara-parade-of-champions-08-17-2024-4969
END:VEVENT

END:VCALENDAR
