BEGIN:VCALENDAR
VERSION:2.0
PRODID:-//ChamberMaster//Event Calendar 2.0//EN
METHOD:PUBLISH
X-PUBLISHED-TTL:P3D
REFRESH-INTERVAL:P3D
CALSCALE:GREGORIAN
BEGIN:VEVENT
DTSTART:20231128T210000Z
DTEND:20231128T220000Z
X-MICROSOFT-CDO-ALLDAYEVENT:FALSE
SUMMARY:Are You a Business Owner? Generating A Positive Cash Flow is Your Way to Grow
DESCRIPTION:Join Wendy Roberts as she navigates you through the importance of maintaining a positive cash flow and how this can help you expand your business.
X-ALT-DESC;FMTTYPE=text/html:Join Wendy Roberts as she navigates you through the importance of maintaining a positive cash flow and how this can help you expand your business.
LOCATION:Easy Webinar Click this link to register!
UID:e.3535.4751
SEQUENCE:3
DTSTAMP:20260422T054626Z
URL:https://members.svcentralchamber.com/events/details/are-you-a-business-owner-generating-a-positive-cash-flow-is-your-way-to-grow-4751
END:VEVENT

END:VCALENDAR
