BEGIN:VCALENDAR
VERSION:2.0
PRODID:-//ChamberMaster//Event Calendar 2.0//EN
METHOD:PUBLISH
X-PUBLISHED-TTL:P3D
REFRESH-INTERVAL:P3D
CALSCALE:GREGORIAN
BEGIN:VEVENT
DTSTART:20090815T010000Z
DTEND:20090815T040000Z
X-MICROSOFT-CDO-ALLDAYEVENT:FALSE
SUMMARY:Bowling Night Fun-Raiser
DESCRIPTION:Annual Bowling Event to help augment the scholarship fund for Business Experience Day 2009.  Bowlers pay $30  per person\, and it includes pizza\, salad\, sodas\, dessert\, shoes\, and two hours of bowling.
X-ALT-DESC;FMTTYPE=text/html:Annual Bowling Event to help augment the scholarship fund for Business Experience Day 2009.  Bowlers pay $30  per person\, and it includes pizza\, salad\, sodas\, dessert\, shoes\, and two hours of bowling.  
LOCATION:10123 N. Wolfe Road\, Cupertino Square\, Cupertino\, CA 95014
UID:e.3535.22
SEQUENCE:3
DTSTAMP:20260424T084914Z
URL:https://members.svcentralchamber.com/events/details/bowling-night-fun-raiser-08-14-2009-22
END:VEVENT

END:VCALENDAR
