BEGIN:VCALENDAR
VERSION:2.0
PRODID:-//ChamberMaster//Event Calendar 2.0//EN
METHOD:PUBLISH
X-PUBLISHED-TTL:P3D
REFRESH-INTERVAL:P3D
CALSCALE:GREGORIAN
BEGIN:VEVENT
DTSTART:20090320T150000Z
DTEND:20090321T000000Z
X-MICROSOFT-CDO-ALLDAYEVENT:FALSE
SUMMARY:Business Experience Day 2008-2009 Student Hosts
DESCRIPTION:
X-ALT-DESC;FMTTYPE=text/html:
LOCATION:1850 Warburton Ave.\, Santa Clara\, CA 95050
UID:e.3535.3
SEQUENCE:3
DTSTAMP:20260423T060501Z
URL:https://members.svcentralchamber.com/events/details/business-experience-day-2008-2009-student-hosts-03-20-2009-3
END:VEVENT

END:VCALENDAR
