BEGIN:VCALENDAR
VERSION:2.0
PRODID:-//ChamberMaster//Event Calendar 2.0//EN
METHOD:PUBLISH
X-PUBLISHED-TTL:P3D
REFRESH-INTERVAL:P3D
CALSCALE:GREGORIAN
BEGIN:VEVENT
DTSTART:20090421T153000Z
DTEND:20090421T163000Z
X-MICROSOFT-CDO-ALLDAYEVENT:FALSE
SUMMARY:City of Santa Clara Sewer and Water Increase Presentation
DESCRIPTION:Annual presentation by the Director of Sewer & Water for the City of Santa Clara discussing rate changes for the coming year.
X-ALT-DESC;FMTTYPE=text/html:Annual presentation by the Director of Sewer & Water for the City of Santa Clara discussing rate changes for the coming year.
LOCATION:1500 Warburton Avenue\, Santa Clara\, CA 95050
UID:e.3535.9
SEQUENCE:3
DTSTAMP:20260423T035725Z
URL:https://members.svcentralchamber.com/events/details/city-of-santa-clara-sewer-and-water-increase-presentation-04-21-2009-9
END:VEVENT

END:VCALENDAR
