BEGIN:VCALENDAR
VERSION:2.0
PRODID:-//ChamberMaster//Event Calendar 2.0//EN
METHOD:PUBLISH
X-PUBLISHED-TTL:P3D
REFRESH-INTERVAL:P3D
CALSCALE:GREGORIAN
BEGIN:VEVENT
DTSTART:20110216T010000Z
DTEND:20110216T030000Z
X-MICROSOFT-CDO-ALLDAYEVENT:FALSE
SUMMARY:February Mixer 2011
DESCRIPTION:Join us for our February Mixer at Mission Community College\, located in Santa Clara in the heart of Silicon Valley. Make new business connections and meet our newest members\, while enjoying the hospitality of the Mission Community College staff. Members in good standing attend at no charge as long as they register by Friday\, February 11th\;  RSVPs after this date and at the door are $5.  Not-yet members are $10. Not-yet members are allowed to attend up to two mixers (any combination of our mixers) before joining the Chamber. Please click the link above to RSVP.   Advanced registration closes on Monday\, February 14th. The mixer will be held in the Campus Center\, Rooms 219 & 220.  Complimentary parking is available in Lots B & C.  For a map of the campus\, please click here.
X-ALT-DESC;FMTTYPE=text/html:Join us for our February Mixer at Mission Community College\, located in Santa Clara in the heart of Silicon Valley. Make new business connections and meet our newest members\, while enjoying the hospitality of the Mission Community College staff. Members in good standing attend at no charge as long as they register by Friday\, February 11th\;&nbsp\; RSVPs after this date and at the door are $5.&nbsp\; Not-yet members are $10. Not-yet members are allowed to attend up to two mixers (any combination of our mixers) before joining the Chamber. Please click the link above to RSVP.&nbsp\;&nbsp\; Advanced registration closes on Monday\, February 14th. The mixer will be held in the Campus Center\, Rooms 219 &amp\; 220.&nbsp\; Complimentary parking is available in Lots B &amp\; C.&nbsp\; For a map of the campus\, please <a href="http://www.santaclarachamber.com/external/wcpages/wcwebcontent/webcontentpage.aspx?contentid=293">click here</a>.
LOCATION:3000 Mission College Blvd.\, Santa Clara\, CA 95054
UID:e.3535.221
SEQUENCE:3
DTSTAMP:20260421T161451Z
URL:https://members.svcentralchamber.com/events/details/february-mixer-2011-221
END:VEVENT

END:VCALENDAR
