BEGIN:VCALENDAR
VERSION:2.0
PRODID:-//ChamberMaster//Event Calendar 2.0//EN
METHOD:PUBLISH
X-PUBLISHED-TTL:P3D
REFRESH-INTERVAL:P3D
CALSCALE:GREGORIAN
BEGIN:VEVENT
DTSTART:20101009T010000Z
DTEND:20101009T030000Z
X-MICROSOFT-CDO-ALLDAYEVENT:FALSE
SUMMARY:Festiv'ALL 2010
DESCRIPTION:PLEASE NOTE:  Advanced registration has closed-to attend please register onsite. The day-off registration fee is $20.\n\nFestiv'ALL is a multi-cultural networking expo and mixer of the region's leading business and economic development organizations. Festiv'ALL is a celebration of our area's diversity and connectedness!  In addition to the many business partners who will be exhibiting\, Festiv'ALL features international food stations.  More than 500 business representatives attended last years event\, and there were more than 20 food stations.  To RSVP\, please click the registration link above.  Complimentary tickets are available to our members\; non-members may purchase their tickets in advance for $20.  Tickets MUST be picked up in our offices during normal business hours\, by Thursday\, October 7th at 5:00 p.m.  Advance registration will close at 5:00 p.m. on Thursday\, October 7th.  If you do not pre-register and pick up a ticket\, there will be a $20 charge at the door\, so get your FREE ticket in advance!
X-ALT-DESC;FMTTYPE=text/html:<p><font face="Arial" size="2"><strong><u><em>PLEASE NOTE</em></u></strong>:&nbsp\; Advanced registration has closed-to attend please register onsite. The day-off registration fee is $20.</font></p>\n\n<p><font face="Arial" size="2">Festiv&rsquo\;ALL is a multi-cultural networking expo and mixer of the region&rsquo\;s leading business and economic development organizations. Festiv&rsquo\;ALL is a celebration of our area&rsquo\;s diversity and connectedness!&nbsp\; In addition to the many business partners who will be exhibiting\, Festiv&#39\;ALL&nbsp\;features international food stations.&nbsp\; More than 500 business representatives attended last years event\, and there were more than 20 food stations.&nbsp\; To RSVP\, please click the registration link above.&nbsp\; Complimentary tickets are available to our members\; non-members may purchase their tickets in advance for $20.&nbsp\; Tickets MUST be picked up in our offices during normal business hours\, by Thursday\, October 7th at 5:00 p.m.&nbsp\; Advance registration will close at 5:00 p.m. on Thursday\, October 7th.&nbsp\;&nbsp\;If you do not pre-register and pick up a ticket\, there will be a $20 charge at the door\, so get your FREE ticket in advance!</font></p>\n
LOCATION:5001 Great America Pkwy\, Santa Clara\, CA 95054
UID:e.3535.143
SEQUENCE:3
DTSTAMP:20260421T205721Z
URL:https://members.svcentralchamber.com/events/details/festiv-all-2010-143
END:VEVENT

END:VCALENDAR
