BEGIN:VCALENDAR
VERSION:2.0
PRODID:-//ChamberMaster//Event Calendar 2.0//EN
METHOD:PUBLISH
X-PUBLISHED-TTL:P3D
REFRESH-INTERVAL:P3D
CALSCALE:GREGORIAN
BEGIN:VEVENT
DTSTART:20181020T000000Z
DTEND:20181020T030000Z
X-MICROSOFT-CDO-ALLDAYEVENT:FALSE
SUMMARY:Festiv'ALL 2018
DESCRIPTION:FRIDAY |OCTOBER 19\, 2018 | 5:00 TO 8:00 PM\n\nFestiv'ALL 2018 is one of the premier networking events of Silicon Valley. It is a celebration of our diversity and connectedness - the only event of the year that brings together a potent combination and significant number of multi-cultural\, multi-ethnic\, business-oriented organizations from all around the region.  \n\nSan Jose City College | Main Gym\n 2100 Moorpark Ave. San Jose\, CA \nFree Registration - Parking fee $3.00\n\n\nREGISTER TODAY \n\nhttps://2018festivall-mega-mixer.eventbrite.com/
X-ALT-DESC;FMTTYPE=text/html: \n \nFRIDAY |OCTOBER 19\, 2018 | 5:00 TO 8:00 PM\n\nFestiv'ALL 2018 is one of the premier networking events of Silicon Valley. It is a celebration of our diversity and connectedness - the only event of the year that brings together a potent combination and significant number of multi-cultural\, multi-ethnic\, business-oriented organizations from all around the region.  \n\nSan Jose City College | Main Gym\n 2100 Moorpark Ave. San Jose\, CA \nFree Registration - Parking fee $3.00\n\n\nREGISTER TODAY \n\nhttps://2018festivall-mega-mixer.eventbrite.com/\n\n\n\n\n\n\n\n\n\n\n\n\n\n\n \n\n\n	 \n\n \n\n\n\n
LOCATION:2100 Moorpark Avenue\, San Jose\, CA 95128
UID:e.3535.1674
SEQUENCE:3
DTSTAMP:20260420T100944Z
URL:https://members.svcentralchamber.com/events/details/festiv-all-2018-10-19-2018-1674
END:VEVENT

END:VCALENDAR
