BEGIN:VCALENDAR
VERSION:2.0
PRODID:-//ChamberMaster//Event Calendar 2.0//EN
METHOD:PUBLISH
X-PUBLISHED-TTL:P3D
REFRESH-INTERVAL:P3D
CALSCALE:GREGORIAN
BEGIN:VEVENT
DTSTART:20100807T010000Z
DTEND:20100807T043000Z
X-MICROSOFT-CDO-ALLDAYEVENT:FALSE
SUMMARY:Franklin Square Street Dance
DESCRIPTION:The Franklin Square Street Dance\, featuring the Sun Kings\, will be held on Friday\, August 6\, 6 to 9:30 p.m. This great band will send more than one amazed shiver down your backbone with their uncanny renditions of your favorite Beatles songs. From ballads to belt-it-out rockers\, and everything in between\, they play your favorites just the way you remember them. \n    \n    \n        The dance will be held on Jackson Street between Homestead Road and Benton Street\, adjacent to the Franklin Square. Enjoy the evening with neighbors and friends at this very popular event. Support our non-profit partners by purchasing refreshments at one of the food booths\, or plan to start the evening by making reservations for an early dinner at a Franklin Square restaurant. Children's activities will also be available. Food and activity booths open at 6:00 p.m.\, and the band\n        begins playing at 7:00 p.m. \n    \n    \n        For more information\, please visit the City of Santa Clara's website by clicking here.
X-ALT-DESC;FMTTYPE=text/html:<html>\n<head>\n</head>\n<body>\n    <p>\n        <font size="2" face="Arial">The Franklin Square Street Dance\, featuring the Sun Kings\, will be held on Friday\, August 6\, 6 to 9:30 p.m. This great band will send more than one amazed shiver down your backbone with their uncanny renditions of your favorite Beatles songs. From ballads to belt-it-out rockers\, and everything in between\, they play your favorites just the way you remember them. </font>\n    </p>\n    <p>\n        <font size="2" face="Arial">The dance will be held on Jackson Street between Homestead Road and Benton Street\, adjacent to the Franklin Square. Enjoy the evening with neighbors and friends at this very popular event. Support our non-profit partners by purchasing refreshments at one of the food booths\, or plan to start the evening by making reservations for an early dinner at a Franklin Square restaurant. Children&rsquo\;s activities will also be available. Food and activity booths open at 6:00 p.m.\, and the band\n        begins playing at 7:00 p.m. </font>\n    </p>\n    <p>\n        <font size="2" face="Arial">For more information\, please visit the City of Santa Clara's website by </font><a href="http://santaclaraca.gov/index.aspx?page=41&amp\;recordid=2520"><font size="2" face="Arial">clicking here</font></a><font size="2" face="Arial">.</font>&nbsp\; \n    </p>\n</body>\n</html>\n
LOCATION:Jackson Street between Benton and Homestead\, Santa Clara\, CA 95050
UID:e.3535.61
SEQUENCE:3
DTSTAMP:20260422T014225Z
URL:https://members.svcentralchamber.com/events/details/franklin-square-street-dance-08-06-2010-61
END:VEVENT

END:VCALENDAR
