BEGIN:VCALENDAR
VERSION:2.0
PRODID:-//ChamberMaster//Event Calendar 2.0//EN
METHOD:PUBLISH
X-PUBLISHED-TTL:P3D
REFRESH-INTERVAL:P3D
CALSCALE:GREGORIAN
BEGIN:VEVENT
DTSTART:20091216T010000Z
DTEND:20091216T030000Z
X-MICROSOFT-CDO-ALLDAYEVENT:FALSE
SUMMARY:Holiday Mixer & Toys for Tots Toy Drive 2009
DESCRIPTION:You are cordially invited to attend our annual holiday mixer and Toys for Tots toy drive scheduled for Tuesday\, December 15 from 5 to 7 p.m. at the Santa Clara Convention Center. This fun holiday event is a great time for you to catch up with your chamber associates and friends\, while enjoying the hospitality of the Santa Clara Convention Center and their partners Aramark and PSAV. For this mixer\, we are asking all attendees to donate a new\, unwrapped toy to the Toys for Tots program (we will collect them that evening). As always\, our members are admitted to the mixers at no charge. Non-members are $10\, but may waive this fee by bringing a new\, unwrapped toy. To RSVP for this mixer\, please visit our website at http://www.santaclarachamber.org or call our office directly at (408) 244-8244. Advance registration is open until noon on Tuesday\, December 15. The Santa Clara Convention Center is located at 5001 Great America Parkway in Santa Clara. Free parking is available behind the Center\, on the 3rd floor of the parking structure. The Holiday Mixer & Toy Drive is being held in Rooms 209/210.
X-ALT-DESC;FMTTYPE=text/html:You are cordially invited to attend our annual holiday mixer and Toys for Tots toy drive scheduled for Tuesday\, December 15 from 5 to 7 p.m. at the Santa Clara Convention Center. This fun holiday event is a great time for you to catch up with your chamber associates and friends\, while enjoying the hospitality of the Santa Clara Convention Center and their partners Aramark and PSAV. For this mixer\, we are asking all attendees to donate a new\, unwrapped toy to the Toys for Tots program (we will collect them that evening). As always\, our members are admitted to the mixers at no charge. Non-members are $10\, but may waive this fee by bringing a new\, unwrapped toy. To RSVP for this mixer\, please visit our website at http://www.santaclarachamber.org or call our office directly at (408) 244-8244. Advance registration is open until noon on Tuesday\, December 15. The Santa Clara Convention Center is located at 5001 Great America Parkway in Santa Clara. Free parking is available behind the Center\, on the 3rd floor of the parking structure. The Holiday Mixer &amp\; Toy Drive is being held in Rooms 209/210.
LOCATION:5001 Great America Pkwy\, Santa Clara\, CA 95054
UID:e.3535.35
SEQUENCE:3
DTSTAMP:20260422T134435Z
URL:https://members.svcentralchamber.com/events/details/holiday-mixer-toys-for-tots-toy-drive-2009-35
END:VEVENT

END:VCALENDAR
