BEGIN:VCALENDAR
VERSION:2.0
PRODID:-//ChamberMaster//Event Calendar 2.0//EN
METHOD:PUBLISH
X-PUBLISHED-TTL:P3D
REFRESH-INTERVAL:P3D
CALSCALE:GREGORIAN
BEGIN:VEVENT
DTSTART:20101215T010000Z
DTEND:20101215T030000Z
X-MICROSOFT-CDO-ALLDAYEVENT:FALSE
SUMMARY:Holiday Mixer & Toys for Tots Toy Drive 2010
DESCRIPTION:You are cordially invited to attend our annual holiday mixer and Toys for Tots toy drive scheduled for Tuesday\, December 14 from 5 to 7 p.m. at the Santa Clara Convention Center. This fun holiday event is a great time for you to catch up with your chamber associates and friends\, while enjoying the hospitality of the Santa Clara Convention Center and their partners Aramark and PSAV. \n\nFor this mixer\, we are asking all attendees to donate a new\, unwrapped toy to the Toys for Tots program (we will collect them that evening). As always\, our members are admitted to the mixers at no charge. Non-members are $10\, but may waive this fee by bringing a new\, unwrapped toy. To RSVP for this mixer\, please click above or call our office directly at (408) 244-8244.  Advance registration is open until Monday\, December 13\, 2010. \n\nThe Santa Clara Convention Center is located at 5001 Great America Parkway in Santa Clara.  Free parking is available behind the Center\, on the 3rd floor of the parking structure.  The Holiday Mixer & Toy Drive is being held in the Mission City Ballroom.
X-ALT-DESC;FMTTYPE=text/html:<p><font face="Arial" size="2">You are cordially invited to attend our annual holiday mixer and Toys for Tots toy drive scheduled for Tuesday\, December 14 from 5 to 7 p.m. at the Santa Clara Convention Center. This fun holiday event is a great time for you to catch up with your chamber associates and friends\, while enjoying the hospitality of the Santa Clara Convention Center and their partners Aramark and PSAV. </font></p>\n\n<p><font face="Arial" size="2">For this mixer\, we are asking all attendees to donate a new\, unwrapped toy to the Toys for Tots program (we will collect them that evening). As always\, our members are admitted to the mixers at no charge. Non-members are $10\, but may waive this fee by bringing a new\, unwrapped toy. To RSVP for this mixer\, please click above or call our office directly at (408) 244-8244.&nbsp\; Advance registration is open until Monday\, December 13\, 2010. </font></p>\n\n<p><font face="Arial" size="2">The Santa Clara Convention Center is located at 5001 Great America Parkway in Santa Clara.&nbsp\; Free parking is available behind the Center\, on the 3rd floor of the parking structure.&nbsp\; The Holiday Mixer &amp\; Toy Drive is being held in the Mission City Ballroom. </font></p>\n
LOCATION:5001 Great America Pkwy\, Santa Clara\, CA 95054
UID:e.3535.190
SEQUENCE:3
DTSTAMP:20260421T180124Z
URL:https://members.svcentralchamber.com/events/details/holiday-mixer-toys-for-tots-toy-drive-2010-190
END:VEVENT

END:VCALENDAR
