BEGIN:VCALENDAR
VERSION:2.0
PRODID:-//ChamberMaster//Event Calendar 2.0//EN
METHOD:PUBLISH
X-PUBLISHED-TTL:P3D
REFRESH-INTERVAL:P3D
CALSCALE:GREGORIAN
BEGIN:VEVENT
DTSTART:20250410T230000Z
DTEND:20250411T040000Z
X-MICROSOFT-CDO-ALLDAYEVENT:FALSE
SUMMARY:Idyll Time Wines - 2nd Thursday Pop-up Events
DESCRIPTION:Join Idyll Time Wines every 2nd Thursday for a pop-up event like no other!  \n\n\n\nExperience the charm of over 25 local vendors offering a delightful range of products and services from delectable food to exquisite custom wines.  \n\n\n\nBe part of a vibrant community gathering and support local talent. Don't miss out on these unique finds!
X-ALT-DESC;FMTTYPE=text/html:Join Idyll Time Wines every 2nd Thursday for a pop-up event like no other!&nbsp\;&nbsp\;<br />\n<br />\nExperience the charm of over 25 local vendors offering a delightful range of products and services&mdash\;from delectable food to exquisite custom wines.&nbsp\;&nbsp\;<br />\n<br />\nBe part of a vibrant community gathering and support local talent. Don&#39\;t miss out on these unique finds!
LOCATION:Idyll Time Wine Shop and Gift Gallery - 3310 Woodward Ave\, Santa Clara\, CA 95054
UID:e.3535.6383
SEQUENCE:3
DTSTAMP:20260424T194817Z
URL:https://members.svcentralchamber.com/events/details/idyll-time-wines-2nd-thursday-pop-up-events-04-10-2025-6383
END:VEVENT

END:VCALENDAR
