BEGIN:VCALENDAR
VERSION:2.0
PRODID:-//ChamberMaster//Event Calendar 2.0//EN
METHOD:PUBLISH
X-PUBLISHED-TTL:P3D
REFRESH-INTERVAL:P3D
CALSCALE:GREGORIAN
BEGIN:VEVENT
DTSTART:20240711T223000Z
DTEND:20240712T013000Z
X-MICROSOFT-CDO-ALLDAYEVENT:FALSE
SUMMARY:Idyll Time Wines - Camping & Cookouts Pop-up
DESCRIPTION:Get ready to transform your outdoor events this summer!\n\n\n\nJoin us at Idyll Time Wines' exclusive Pop-Up Shop and get inspired.\n\n\n\nPicture an afternoon filled with laughter\, unique vendors\, and mouth-watering camping inspired foods.\n\n\n\nDiscover everything from gourmet Mexican hotdogs to stylish citronella candles and handcrafted jewelry.\n\n\n\nNeed CBD gummies or a captivating book to unwind? We've got vendors for that too!\n\n\n\nSeize this chance to find exclusive items that will make your backyard BBQs and campouts unforgettable.\n\n\n\nWho in your network would love this? Connect with them and let's celebrate summer together!
X-ALT-DESC;FMTTYPE=text/html:<strong>Get ready</strong>&nbsp\;<strong>to transform your outdoor events this summer!</strong><br />\n<br />\nJoin us at Idyll Time Wines&#39\; exclusive Pop-Up Shop and get inspired.<br />\n<br />\nPicture an afternoon filled with laughter\, unique vendors\, and mouth-watering camping inspired foods.<br />\n<br />\nDiscover everything from gourmet Mexican hotdogs to stylish citronella candles and handcrafted jewelry.<br />\n<br />\nNeed CBD gummies or a captivating book to unwind? We&#39\;ve got vendors for that too!<br />\n<br />\nSeize this chance to find exclusive items that will make your backyard BBQs and campouts unforgettable.<br />\n<br />\nWho in your network would love this? Connect with them and let&#39\;s celebrate summer together!
LOCATION:Location: Idyll Time Wines & Gift Gallery\, 3310 Woodward Ave\, Santa Clara\, CA (Next to JP Graphics\, Inc.)
UID:e.3535.4904
SEQUENCE:3
DTSTAMP:20260421T165043Z
URL:https://members.svcentralchamber.com/events/details/idyll-time-wines-camping-cookouts-pop-up-4904
END:VEVENT

END:VCALENDAR
