BEGIN:VCALENDAR
VERSION:2.0
PRODID:-//ChamberMaster//Event Calendar 2.0//EN
METHOD:PUBLISH
X-PUBLISHED-TTL:P3D
REFRESH-INTERVAL:P3D
CALSCALE:GREGORIAN
BEGIN:VEVENT
DTSTART:20221203T170000Z
DTEND:20221203T200000Z
X-MICROSOFT-CDO-ALLDAYEVENT:FALSE
SUMMARY:Job Fair
DESCRIPTION:Santa Clara Unified School District is hiring! Join us on December 3 from 9 a.m. to 12 p.m for our Classified Job Fair to learn about non-teaching job opportunities that are available in our district. \n\nClassified positions are non-teaching positions   ones that don't require a credential. Positions like food service workers\, bus drivers\, secretaries\, and instructional assistants in the schools are all examples of classified jobs.\n\nThe job fair will be hosted in the district office board room (1889 Lawrence Road\, Santa Clara). Visit our SCUSD is Hiring webpages for links to apply and more resources.
X-ALT-DESC;FMTTYPE=text/html:<p>Santa Clara Unified School District is hiring! Join us on&nbsp\;<strong>December 3 from 9 a.m. to 12 p.m for our Classified Job Fair</strong>&nbsp\;to learn about non-teaching job opportunities that are available in our district.&nbsp\;</p>\n\n<p><strong>Classified positions</strong>&nbsp\;are non-teaching positions &mdash\; ones that don&#39\;t require a credential. Positions like food service workers\, bus drivers\, secretaries\, and instructional assistants in the schools are all examples of classified jobs.</p>\n\n<p>The job fair will be hosted in the district office board room (1889 Lawrence Road\, Santa Clara). Visit our&nbsp\;<a href="https://bit.ly/scusdjobfair11"><u><strong>SCUSD is Hiring webpages</strong></u></a>&nbsp\;for links to apply and more resources.</p>\n
LOCATION:SCUSD District Office Board Room\, 1889 Lawrence Road\, Santa Clara
UID:e.3535.4538
SEQUENCE:3
DTSTAMP:20260425T212752Z
URL:https://members.svcentralchamber.com/events/details/job-fair-4538
END:VEVENT

END:VCALENDAR
