BEGIN:VCALENDAR
VERSION:2.0
PRODID:-//ChamberMaster//Event Calendar 2.0//EN
METHOD:PUBLISH
X-PUBLISHED-TTL:P3D
REFRESH-INTERVAL:P3D
CALSCALE:GREGORIAN
BEGIN:VEVENT
DTSTART:20100324T183000Z
DTEND:20100324T200000Z
X-MICROSOFT-CDO-ALLDAYEVENT:FALSE
SUMMARY:LinkedIn for Small Business
DESCRIPTION:Join the Silicon Valley Young Professionals (SVYP) for the upcoming LinkedIn for Small Business event.  This session is designed to share LinkedIn best practices with small business (SMB) owners and SMB professionals\, to help them accomplish their business' goals more effectively with the help of their professional network on LinkedIn. \n\nSome of the topics covered will range from how LinkedIn can help your small business thrive by helping you and your employees find referrals\, generate leads\, and win new business\, to tips on establishing and promoting a strong presence for your company brand online. \n\nThis training will be led by LinkedIn's first approved trainer\, David T. Stevens.  For SVYP Professional Members\, there is no charge to attend.  Basic and non-members are $5 per person.  Advanced reservations are suggested as we do expect to sell out.  On-site registration will be available on space available basis for a fee of $10 per person\, whether you are a member or not.  Advance reservations will be accepted until Tuesday\, March 23 at 5:00 p.m. or when the event is sold out\, whichever comes first. \n\nThe session will take place in the Theatre at the Santa Clara Convention Center\, 5001 Great America Parkway.  Complimentary parking is available in the Convention Center garage\, located behind the Convention Center. \n\nSVYP is a program of the Santa Clara Chamber of Commerce & Convention-Visitors Bureau\, designed to give Young Professionals the opportunity for growth through Leadership\, Community Service and Education.  If you would like to learn more about SVYP\, please visit their website at http://www.siliconvalleyyp.com/.
X-ALT-DESC;FMTTYPE=text/html:Join the Silicon Valley Young Professionals (SVYP) for the upcoming LinkedIn for Small Business event.  This session is designed to share LinkedIn best practices with small business (SMB) owners and SMB professionals\, to help them accomplish their business' goals more effectively with the help of their professional network on LinkedIn. \n\nSome of the topics covered will range from how LinkedIn can help your small business thrive by helping you and your employees find referrals\, generate leads\, and win new business\, to tips on establishing and promoting a strong presence for your company brand online. \n\nThis training will be led by LinkedIn's first approved trainer\, David T. Stevens.  For SVYP Professional Members\, there is no charge to attend.  Basic and non-members are $5 per person.  Advanced reservations are suggested as we do expect to sell out.  On-site registration will be available on space available basis for a fee of $10 per person\, whether you are a member or not.  Advance reservations will be accepted until Tuesday\, March 23 at 5:00 p.m. or when the event is sold out\, whichever comes first. \n\nThe session will take place in the Theatre at the Santa Clara Convention Center\, 5001 Great America Parkway.  Complimentary parking is available in the Convention Center garage\, located behind the Convention Center. \n\nSVYP is a program of the Santa Clara Chamber of Commerce & Convention-Visitors Bureau\, designed to give Young Professionals the opportunity for growth through Leadership\, Community Service and Education.  If you would like to learn more about SVYP\, please visit their website at http://www.siliconvalleyyp.com/. \n\n
LOCATION:5001 Great America Pkwy\, Santa Clara\, CA 95054
UID:e.3535.45
SEQUENCE:3
DTSTAMP:20260422T085701Z
URL:https://members.svcentralchamber.com/events/details/linkedin-for-small-business-03-24-2010-45
END:VEVENT

END:VCALENDAR
