BEGIN:VCALENDAR
VERSION:2.0
PRODID:-//ChamberMaster//Event Calendar 2.0//EN
METHOD:PUBLISH
X-PUBLISHED-TTL:P3D
REFRESH-INTERVAL:P3D
CALSCALE:GREGORIAN
BEGIN:VEVENT
DTSTART:20241026T150000Z
DTEND:20241026T190000Z
X-MICROSOFT-CDO-ALLDAYEVENT:FALSE
SUMMARY:Making Strides Against Breast Cancer of Silicon Valley
DESCRIPTION:Over the past three decades\, the American Cancer Society Making Strides Against Breast Cancer (MSABC) campaign has united communities\, companies\, and individuals and has grown into the nation's largest and most impactful breast cancer movement. These 3- to 5-mile noncompetitive walks provide a supportive community for courageous breast cancer survivors and people living with metastatic breast cancer\, caregivers\, and families alike.\n\nJoin us on October 26 at California's Great America for Making Strides Against Breast Cancer of Silicon Valley. We are so excited to gather with 12\,000 of our friends to celebrate breast cancer awareness month. Register as a fundraising team\, sign up to volunteer\, or reach out to us to sponsor our campaign today!
X-ALT-DESC;FMTTYPE=text/html:<p>Over the past three decades\, the American Cancer Society Making Strides Against Breast Cancer (MSABC) campaign has united communities\, companies\, and individuals and has grown into the&nbsp\;<strong>nation&rsquo\;s largest and most impactful breast cancer movement.&nbsp\;</strong>These 3- to 5-mile noncompetitive walks provide a supportive community for courageous breast cancer survivors and people living with metastatic breast cancer\, caregivers\, and families alike.</p>\n\n<p>Join us on October 26 at California&#39\;s Great America for Making Strides Against Breast Cancer of Silicon Valley. We are so excited to gather with 12\,000 of our friends to celebrate breast cancer awareness month. Register as a fundraising team\, sign up to volunteer\, or reach out to us to sponsor our campaign today!</p>\n
LOCATION:California's Great America 4701 Great America Pkwy Santa Clara\, CA 95054
UID:e.3535.5812
SEQUENCE:3
DTSTAMP:20260421T120157Z
URL:https://members.svcentralchamber.com/events/details/making-strides-against-breast-cancer-of-silicon-valley-5812
END:VEVENT

END:VCALENDAR
