BEGIN:VCALENDAR
VERSION:2.0
PRODID:-//ChamberMaster//Event Calendar 2.0//EN
METHOD:PUBLISH
X-PUBLISHED-TTL:P3D
REFRESH-INTERVAL:P3D
CALSCALE:GREGORIAN
BEGIN:VEVENT
DTSTART:20090716T230000Z
DTEND:20090717T020000Z
X-MICROSOFT-CDO-ALLDAYEVENT:FALSE
SUMMARY:Mission City Ballroom Grand Opening & Mixer
DESCRIPTION:Grand Opening ceremony for the Mission City Ballroom at the Santa Clara Convention Center.  Will include the mixer for July\, but no regular mixer program.
X-ALT-DESC;FMTTYPE=text/html:Grand Opening ceremony for the Mission City Ballroom at the Santa Clara Convention Center.  Will include the mixer for July\, but no regular mixer program.
LOCATION:5001 Great America Pkwy\, Santa Clara\, CA 95054
UID:e.3535.16
SEQUENCE:3
DTSTAMP:20260422T225059Z
URL:https://members.svcentralchamber.com/events/details/mission-city-ballroom-grand-opening-mixer-07-16-2009-16
END:VEVENT

END:VCALENDAR
