BEGIN:VCALENDAR
VERSION:2.0
PRODID:-//ChamberMaster//Event Calendar 2.0//EN
METHOD:PUBLISH
X-PUBLISHED-TTL:P3D
REFRESH-INTERVAL:P3D
CALSCALE:GREGORIAN
BEGIN:VEVENT
DTSTART:20241012T150000Z
DTEND:20241012T200000Z
X-MICROSOFT-CDO-ALLDAYEVENT:FALSE
SUMMARY:Mission College Monster Dash & Bash 5k Walk/Run
DESCRIPTION:Mission College Monster Dash & Bash 5K Walk/Run Fundraiser Saturday\, October 12\, 2024 Proceeds Support Student's Scholarships Beer Garden | Food Trucks | Kids Trick or Trot Race | Costume Contest | Kids Activities $35 early bird entry fee includes t-shirt\, bib\, finishers' medal\, and two beer tickets or non-alcoholic beverages. Kids can enjoy free activities such as trick-or-treating\, interactive stations\, a photo booth\, and additional fun-filled options.
X-ALT-DESC;FMTTYPE=text/html:Mission College Monster Dash &amp\; Bash 5K Walk/Run Fundraiser Saturday\, October 12\, 2024 Proceeds Support Student&#39\;s Scholarships Beer Garden | Food Trucks | Kids Trick or Trot Race | Costume Contest | Kids Activities $35 early bird entry fee includes t-shirt\, bib\, finishers&#39\; medal\, and two beer tickets or non-alcoholic beverages. Kids can enjoy free activities such as trick-or-treating\, interactive stations\, a photo booth\, and additional fun-filled options.
LOCATION:Mission College 3000 Mission College Blvd.\, Santa Clara\, CA 95054
UID:e.3535.5312
SEQUENCE:3
DTSTAMP:20260421T114727Z
URL:https://members.svcentralchamber.com/events/details/mission-college-monster-dash-bash-5k-walk-run-5312
END:VEVENT

END:VCALENDAR
