BEGIN:VCALENDAR
VERSION:2.0
PRODID:-//ChamberMaster//Event Calendar 2.0//EN
METHOD:PUBLISH
X-PUBLISHED-TTL:P3D
REFRESH-INTERVAL:P3D
CALSCALE:GREGORIAN
BEGIN:VEVENT
DTSTART:20220124T230000Z
DTEND:20220125T000000Z
X-MICROSOFT-CDO-ALLDAYEVENT:FALSE
SUMMARY:Mix and Mingle Open House
DESCRIPTION:Silicon Valley Central Chamber of Commerce Power Partners Group.
X-ALT-DESC;FMTTYPE=text/html:Silicon Valley Central Chamber of Commerce Power Partners Group.
LOCATION:1290 The Alameda San Jose\, CA 95126
UID:e.3535.3748
SEQUENCE:3
DTSTAMP:20260422T083711Z
URL:https://members.svcentralchamber.com/events/details/mix-and-mingle-open-house-3748
END:VEVENT

END:VCALENDAR
