BEGIN:VCALENDAR
VERSION:2.0
PRODID:-//ChamberMaster//Event Calendar 2.0//EN
METHOD:PUBLISH
X-PUBLISHED-TTL:P3D
REFRESH-INTERVAL:P3D
CALSCALE:GREGORIAN
BEGIN:VEVENT
DTSTART:20240528T200000Z
DTEND:20240528T210000Z
X-MICROSOFT-CDO-ALLDAYEVENT:FALSE
SUMMARY:Operational Excellence: Part 1-Crafting an Operational Point of Focus Plan for Business Success
DESCRIPTION:Join us for the first installment of our two-part webinar series\, "Mastering Operational Excellence." In this session\, we will provide a clear overview of the 4 Points of Focus. Explore how Operational Excellence\, as a business approach\, continually enhances operations\, processes\, and systems\, emphasizing quality and continuous improvement. Delve into the 4 key areas: Strategy Development\, Process Excellence\, Performance Management\, and Leadership and Culture. Understand the advantages of achieving operational excellence and receive guidance on creating your own "Operational Point of Focus Plan." Uncover essential key performance indicators (KPIs) for measuring success and learn specific methods for monitoring systems and improving initiatives\, including goal-setting\, surveys\, feedback forms\, and audits. This foundational session sets the stage for operational success in your business journey.
X-ALT-DESC;FMTTYPE=text/html:<p>Join us for the first installment of our two-part webinar series\, &quot\;Mastering Operational Excellence.&quot\; In this session\, we will provide a clear overview of the 4 Points of Focus. Explore how Operational Excellence\, as a business approach\, continually enhances operations\, processes\, and systems\, emphasizing quality and continuous improvement. Delve into the 4 key areas: Strategy Development\, Process Excellence\, Performance Management\, and Leadership and Culture. Understand the advantages of achieving operational excellence and receive guidance on creating your own &quot\;Operational Point of Focus Plan.&quot\; Uncover essential key performance indicators (KPIs) for measuring success and learn specific methods for monitoring systems and improving initiatives\, including goal-setting\, surveys\, feedback forms\, and audits. This foundational session sets the stage for operational success in your business journey.</p>\n
LOCATION:Click this link to register!
UID:e.3535.4807
SEQUENCE:3
DTSTAMP:20260421T182931Z
URL:https://members.svcentralchamber.com/events/details/operational-excellence-part-1-crafting-an-operational-point-of-focus-plan-for-business-success-4807
END:VEVENT

END:VCALENDAR
