BEGIN:VCALENDAR
VERSION:2.0
PRODID:-//ChamberMaster//Event Calendar 2.0//EN
METHOD:PUBLISH
X-PUBLISHED-TTL:P3D
REFRESH-INTERVAL:P3D
CALSCALE:GREGORIAN
BEGIN:VEVENT
DTSTART:20101210T020000Z
DTEND:20101210T050000Z
X-MICROSOFT-CDO-ALLDAYEVENT:FALSE
SUMMARY:Outgoing City of Santa Clara Council Member Recognition Dinner
DESCRIPTION:Please save the date of Thursday\, December 9 to join us for a special dinner celebration honoring outgoing Council Members Dominic J. Caserta and Joe Kornder\, as well as Mayor Patricia M. Mahan.  Festivities will begin with no-host cocktails at 6:00 p.m.  Invitations have been mailed.  To RSVP\, please click the "register" link above.  You may also click\n        here to download the pdf version of the invitation to mail in your RSVP. \n    \n    \n        PLEASE NOTE:  Registration closes on December 1st.  For any questions\, please call the City of Santa Clara at (408) 615-2210.
X-ALT-DESC;FMTTYPE=text/html:<html>\n<head>\n</head>\n<body>\n    <p>\n        <font size="2" face="Arial">Please save the date of Thursday\, December 9 to join us for a special dinner celebration honoring outgoing Council Members Dominic J. Caserta and Joe Kornder\, as well as Mayor Patricia M. Mahan.&nbsp\; Festivities will begin with no-host cocktails at 6:00 p.m.&nbsp\; Invitations have been mailed.&nbsp\;&nbsp\;To RSVP\, please click the "register" link above.&nbsp\; You may also </font><a href="http://www.santaclarachamber.com/external/wcpages/wcwebcontent/webcontentpage.aspx?contentid=212"><font size="2" face="Arial">click\n        here</font></a><font size="2"><font face="Arial">&nbsp\;to download the pdf version of the invitation to mail in your RSVP.</font><font face="Arial"> </font></font>\n    </p>\n    <p>\n        <font size="2" face="Arial">PLEASE NOTE:&nbsp\; Registration closes on December 1st.&nbsp\; For any questions\, please call the City of Santa Clara at (408) 615-2210.</font>\n    </p>\n</body>\n</html>\n
LOCATION:5001 Great America Pkwy\, Santa Clara\, CA 95054
UID:e.3535.186
SEQUENCE:3
DTSTAMP:20260421T180123Z
URL:https://members.svcentralchamber.com/events/details/outgoing-city-of-santa-clara-council-member-recognition-dinner-12-09-2010-186
END:VEVENT

END:VCALENDAR
