BEGIN:VCALENDAR
VERSION:2.0
PRODID:-//ChamberMaster//Event Calendar 2.0//EN
METHOD:PUBLISH
X-PUBLISHED-TTL:P3D
REFRESH-INTERVAL:P3D
CALSCALE:GREGORIAN
BEGIN:VEVENT
DTSTART:20260425T160000Z
DTEND:20260425T200000Z
X-MICROSOFT-CDO-ALLDAYEVENT:FALSE
SUMMARY:Party City Block Party at Staples
DESCRIPTION:Come join us at Staples for the Grand Opening of Party City\, now located in the store.  You will be able to interact with the team and see how we can meet all your party needs including invitations\, banners\, decorations\, balloons\, party gifts and even personalized wrapping paper.  \n\nCome join us for the Ribbon cutting will be at 9am.
X-ALT-DESC;FMTTYPE=text/html:<p>Come join us at Staples for the Grand Opening of Party City\, now located in the store. &nbsp\;You will be able to interact with the team and see how we can meet all your party needs including invitations\, banners\, decorations\, balloons\, party gifts and even personalized wrapping paper. &nbsp\;</p>\n\n<p>Come join us for the Ribbon cutting will be at 9am. &nbsp\;</p>\n
LOCATION:Staples 760 Newhall Drive San Jose\, CA. 95110 (across from the airport and next door to PayPal Stadium)
UID:e.3535.12316
SEQUENCE:3
DTSTAMP:20260424T033150Z
URL:https://members.svcentralchamber.com/events/details/party-city-block-party-at-staples-12316
END:VEVENT

END:VCALENDAR
