BEGIN:VCALENDAR
VERSION:2.0
PRODID:-//ChamberMaster//Event Calendar 2.0//EN
METHOD:PUBLISH
X-PUBLISHED-TTL:P3D
REFRESH-INTERVAL:P3D
CALSCALE:GREGORIAN
BEGIN:VEVENT
DTSTART:20241123T210000Z
DTEND:20241123T210000Z
X-MICROSOFT-CDO-ALLDAYEVENT:FALSE
SUMMARY:Paws and Portraits- Ellore Senior Living
DESCRIPTION:YOU'RE INVITED\n\nPAWS & PORTRAITS\n\n \n\nA festive dog park meetup with bites\, beverages\, and treats for your pets. A professional photographer will be onsite to capture your pet's holiday portrait.
X-ALT-DESC;FMTTYPE=text/html:<p style="margin: 0px\; padding: 0px\; color: rgb(64\, 63\, 66)\; font-family: Arial\, Verdana\, Helvetica\, sans-serif\; font-size: 16px\; white-space-collapse: preserve\; text-align: center\;"><span style="color: rgb(0\, 0\, 0)\; font-weight: bold\;">YOU&#39\;RE INVITED</span></p>\n\n<p style="margin: 0px\; padding: 0px\; color: rgb(64\, 63\, 66)\; font-family: Arial\, Verdana\, Helvetica\, sans-serif\; font-size: 16px\; white-space-collapse: preserve\; text-align: center\;"><span style="color: rgb(0\, 0\, 0)\; font-weight: bold\;">PAWS &amp\; PORTRAITS</span></p>\n\n<p style="margin: 0px\; padding: 0px\; color: rgb(64\, 63\, 66)\; font-family: Arial\, Verdana\, Helvetica\, sans-serif\; font-size: 16px\; white-space-collapse: preserve\; text-align: center\;">&nbsp\;</p>\n\n<p style="margin: 0px\; padding: 0px\; color: rgb(64\, 63\, 66)\; font-family: Arial\, Verdana\, Helvetica\, sans-serif\; font-size: 16px\; white-space-collapse: preserve\;"><span style="color: rgb(0\, 0\, 0)\; font-size: 12px\;">A festive dog park meetup with bites\, beverages\, and treats for your pets. A professional photographer will be onsite to capture your pet&rsquo\;s holiday portrait.</span></p>\n
LOCATION:Ellore Senior Living 2350 Calle De Luna\, Santa Clara\, CA 95054
UID:e.3535.5828
SEQUENCE:3
DTSTAMP:20260421T103544Z
URL:https://members.svcentralchamber.com/events/details/paws-and-portraits-ellore-senior-living-5828
END:VEVENT

END:VCALENDAR
