BEGIN:VCALENDAR
VERSION:2.0
PRODID:-//ChamberMaster//Event Calendar 2.0//EN
METHOD:PUBLISH
X-PUBLISHED-TTL:P3D
REFRESH-INTERVAL:P3D
CALSCALE:GREGORIAN
BEGIN:VEVENT
DTSTART:20090626T003000Z
DTEND:20090626T053000Z
X-MICROSOFT-CDO-ALLDAYEVENT:FALSE
SUMMARY:Pyramid Awards Dinner & Casino Night
DESCRIPTION:The Pyramid Awards Dinner & Casino Night is a celebration of the past year's accomplishments.  We award our Business Member of the Year (Owens Corning)\, Individual Member of the Year (Dick Johnston) and Ambassdor of the Year (Dan MacNaughton) awards at this event.  Additionally\, outgoing board members are recognized for their contributions and the incoming board members and officers are installed.
X-ALT-DESC;FMTTYPE=text/html:The Pyramid Awards Dinner & Casino Night is a celebration of the past year's accomplishments.  We award our Business Member of the Year (Owens Corning)\, Individual Member of the Year (Dick Johnston) and Ambassdor of the Year (Dan MacNaughton) awards at this event.  Additionally\, outgoing board members are recognized for their contributions and the incoming board members and officers are installed.
LOCATION:5001 Great America Pkwy\, Santa Clara\, CA 95054
UID:e.3535.14
SEQUENCE:3
DTSTAMP:20260423T000824Z
URL:https://members.svcentralchamber.com/events/details/pyramid-awards-dinner-casino-night-06-25-2009-14
END:VEVENT

END:VCALENDAR
