BEGIN:VCALENDAR
VERSION:2.0
PRODID:-//ChamberMaster//Event Calendar 2.0//EN
METHOD:PUBLISH
X-PUBLISHED-TTL:P3D
REFRESH-INTERVAL:P3D
CALSCALE:GREGORIAN
BEGIN:VEVENT
DTSTART:20260324T190000Z
DTEND:20260324T201500Z
X-MICROSOFT-CDO-ALLDAYEVENT:FALSE
SUMMARY:Santa Clara Business Council March 2026
DESCRIPTION:1) Overview of City of Santa Clara's Economic Development Department's:\n\n	Current activities and strategic initiatives\n	Efforts to support business growth\, attract investment\, and strengthen the local economy\n	Resources and opportunities for businesses in the community\n\n\n2) Santa Clara Police Department's retail theft initiatives and updates\n\n\n\nSpeakers: \n\nReena Brilliot\, AICP\n\nDirector of Economic Development & Sustainability\n\nCity of Santa Clara\n\n\n\nCory Morgan\n\nChief of Police\,\n\nSanta Clara Police Department\n\n \n\nThis is a geographic Council focused on business in the City of Santa Clara! If you live\, work\, or play in the City of Santa Clara\; or\, would like to do so in the future... then\, this Council is for you. To learn more about the niche groups of like-minded SVC Chamber Members that form Councils\, check out the webpage Councils: Where Do You Fit In.
X-ALT-DESC;FMTTYPE=text/html:<span style="font-family:arial\;">1) Overview of City of Santa Clara&rsquo\;s</span><span style="color: rgb(0\, 0\, 0)\; font-family: arial\; letter-spacing: 0.047em\; caret-color: rgb(255\, 255\, 255)\;">&nbsp\;Economic Development Department&rsquo\;s:</span>\n<ul>\n	<li><span style="font-family:arial\;"><span style="color:#000000\;"><span class="a_GcMg font-feature-liga-off font-feature-clig-off font-feature-calt-off text-decoration-none text-strikethrough-none" style="caret-color: rgb(255\, 255\, 255)\; --Ys-XuQ: none\; font-kerning: none\;">Current activities and strategic initiatives</span></span></span></li>\n	<li><span style="font-family:arial\;"><span style="color:#000000\;"><span class="a_GcMg font-feature-liga-off font-feature-clig-off font-feature-calt-off text-decoration-none text-strikethrough-none" style="caret-color: rgb(255\, 255\, 255)\; --Ys-XuQ: none\; font-kerning: none\;">Efforts to support business growth\, attract investment\, and strengthen the local economy</span></span></span></li>\n	<li><span style="font-family:arial\;"><span style="color:#000000\;"><span class="a_GcMg font-feature-liga-off font-feature-clig-off font-feature-calt-off text-decoration-none text-strikethrough-none" style="caret-color: rgb(255\, 255\, 255)\; --Ys-XuQ: none\; font-kerning: none\;">Resources and opportunities for businesses in the community</span></span></span></li>\n</ul>\n\n<p>2) Santa Clara Police Department&#39\;s retail theft initiatives and updates<br />\n<br />\n<span style="font-family:arial\;">Speakers: </span></p>\n\n<p><span style="font-family:arial\;"><strong>Reena Brilliot\, AICP</strong><br />\nDirector of Economic Development &amp\; Sustainability<br />\nCity of Santa Clara</span></p>\n\n<p><br />\n<strong>Cory Morgan</strong><br />\nChief of Police\,<br />\nSanta Clara Police Department<br />\n&nbsp\;<br />\nThis is a geographic Council focused on business in the City of Santa Clara! If you live\, work\, or play in the City of Santa Clara\; or\, would like to do so in the future... then\, this Council is for you. To learn more about the niche groups of like-minded SVC Chamber Members that form Councils\, check out the webpage Councils: Where Do You Fit In.</p>\n\n<p>&nbsp\;</p>\n
LOCATION:Silicon Valley Chamber 3350 Scott Blvd.\, Bld 54\, Santa Clara\, CA 95054-3124
UID:e.3535.12263
SEQUENCE:3
DTSTAMP:20260425T180215Z
URL:https://members.svcentralchamber.com/events/details/santa-clara-business-council-march-2026-12263
END:VEVENT

END:VCALENDAR
