BEGIN:VCALENDAR
VERSION:2.0
PRODID:-//ChamberMaster//Event Calendar 2.0//EN
METHOD:PUBLISH
X-PUBLISHED-TTL:P3D
REFRESH-INTERVAL:P3D
CALSCALE:GREGORIAN
BEGIN:VEVENT
DTSTART:20110409T013000Z
DTEND:20110409T050000Z
X-MICROSOFT-CDO-ALLDAYEVENT:FALSE
SUMMARY:Silicon Valley Young Professionals Night @ the San Jose SaberCats
DESCRIPTION:Join the Silicon Valley Young Professionals and other YP organizations from the area for a night of fun and excitement as we watch the SaberCats take on the Utah Blaze.Included with your ticket is access to the Club (where we will have a meet up before the game) and all the action of the game!  Each ticket is $21 and includes Club Seating\, where you'll be up close to the game.  Reserve your tickets now by clicking the link above.  \n    \n    \n        You may pick up your tickets up at Will Call the day of the game. Your tickets will be held under the group name ''SVYP'' and the payee's name.
X-ALT-DESC;FMTTYPE=text/html:<html>\n<head>\n</head>\n<body>\n    <p>\n        Join the Silicon Valley Young Professionals and other YP organizations from the area for a night of fun and excitement as we watch the SaberCats take on the Utah Blaze.Included with your ticket is access to the Club (where we will have a meet up before the game) and all the action of the game!&nbsp\; Each ticket is $21 and includes Club Seating\, where you'll be up close to the game.&nbsp\; Reserve your tickets now by clicking the link above.&nbsp\; \n    </p>\n    <p>\n        You may pick up your tickets up at Will Call the day of the game. Your tickets will be held under the group name ''SVYP'' and the payee&rsquo\;s name.\n    </p>\n</body>\n</html>\n
LOCATION:525 W. Santa Clara Street\, San Jose\, CA 95113
UID:e.3535.295
SEQUENCE:3
DTSTAMP:20260421T121552Z
URL:https://members.svcentralchamber.com/events/details/silicon-valley-young-professionals-night-the-san-jose-sabercats-04-08-2011-295
END:VEVENT

END:VCALENDAR
