BEGIN:VCALENDAR
VERSION:2.0
PRODID:-//ChamberMaster//Event Calendar 2.0//EN
METHOD:PUBLISH
X-PUBLISHED-TTL:P3D
REFRESH-INTERVAL:P3D
CALSCALE:GREGORIAN
BEGIN:VEVENT
DTSTART:20250412T190000Z
DTEND:20250412T230000Z
X-MICROSOFT-CDO-ALLDAYEVENT:FALSE
SUMMARY:Spring Into Financial Freedom
DESCRIPTION:Join us for this dynamic Super Saturday event on April 12th and discover how to elevate your financial future\, expand your network\, and gain the strategies to build lasting wealth!\n\nWhether you're an entrepreneur\, a go-getter\, or someone ready to take charge of your future\, this event is your ultimate guide to making things bloom.\n\nWe're thrilled to feature Jeremy Moore\, a 5th-generation LegalShield Entrepreneur\, with three generations of Ring Earners and Millionaire Club Members from the Oklahoma City area home of our corporate headquarters. Mr Moore is truly a living history of our 53+ year-old company\, having witnessed its evolution and impact firsthand.\n\nToday\, Mr Moore earns over $300K per year working from home\, is on track to hit his 4th million\, and serves as a Regional Vice President\, Platinum Executive Director\, and a leader who has protected and empowered over 14\,000 families. His insights into financial growth\, leadership\, and leveraging a powerful system will help you unlock the next level in your business and life!\n\n \n\n  What to Expect:\n\n  The mindset shift to unlock your harvest\n\n  Proven strategies to build and scale your business\n\n  Networking with like-minded\, driven individuals\n\n  A roadmap to turn your hard work into real results
X-ALT-DESC;FMTTYPE=text/html:<p style="margin: 0px\; padding: 0px\; box-sizing: border-box\; font-size: 16px\; line-height: 1.5rem\; color: rgb(111\, 114\, 135)\; font-family: &quot\;Neue Plak&quot\;\, -apple-system\, &quot\;system-ui&quot\;\, Roboto\, &quot\;Helvetica Neue&quot\;\, Helvetica\, Tahoma\, Arial\, sans-serif\;">&#128640\;&nbsp\;<span style="font-weight: 700\; box-sizing: border-box\; padding-top: 0px\;">Join us for this dynamic Super Saturday event on April 12th</span>&nbsp\;and discover how to elevate your financial future\, expand your network\, and gain the strategies to build lasting wealth!</p>\n\n<p style="margin: 0px\; padding: 10px 0px 0px\; box-sizing: border-box\; font-size: 16px\; line-height: 1.5rem\; color: rgb(111\, 114\, 135)\; font-family: &quot\;Neue Plak&quot\;\, -apple-system\, &quot\;system-ui&quot\;\, Roboto\, &quot\;Helvetica Neue&quot\;\, Helvetica\, Tahoma\, Arial\, sans-serif\;">Whether you&rsquo\;re an entrepreneur\, a go-getter\, or someone ready to take charge of your future\, this event is your ultimate guide to making things bloom.</p>\n\n<p style="margin: 0px\; padding: 10px 0px 0px\; box-sizing: border-box\; font-size: 16px\; line-height: 1.5rem\; color: rgb(111\, 114\, 135)\; font-family: &quot\;Neue Plak&quot\;\, -apple-system\, &quot\;system-ui&quot\;\, Roboto\, &quot\;Helvetica Neue&quot\;\, Helvetica\, Tahoma\, Arial\, sans-serif\;">We&rsquo\;re thrilled to feature&nbsp\;<span style="font-weight: 700\; box-sizing: border-box\; padding-top: 0px\;">Jeremy Moore</span>\, a&nbsp\;<span style="font-weight: 700\; box-sizing: border-box\;">5th-generation LegalShield Entrepreneur</span>\, with&nbsp\;<span style="font-weight: 700\; box-sizing: border-box\;">three generations of Ring Earners and Millionaire Club Members</span>&nbsp\;from the Oklahoma City area&mdash\;home of our corporate headquarters. Mr Moore is truly&nbsp\;<span style="font-weight: 700\; box-sizing: border-box\;">a living history</span>&nbsp\;of our 53+ year-old company\, having witnessed its&nbsp\;<span style="font-weight: 700\; box-sizing: border-box\;">evolution and impact firsthand.</span></p>\n\n<p style="margin: 0px\; padding: 10px 0px 0px\; box-sizing: border-box\; font-size: 16px\; line-height: 1.5rem\; color: rgb(111\, 114\, 135)\; font-family: &quot\;Neue Plak&quot\;\, -apple-system\, &quot\;system-ui&quot\;\, Roboto\, &quot\;Helvetica Neue&quot\;\, Helvetica\, Tahoma\, Arial\, sans-serif\;">Today\, Mr Moore earns&nbsp\;<span style="font-weight: 700\; box-sizing: border-box\; padding-top: 0px\;">over $300K per year working from home</span>\, is on track to hit his&nbsp\;<span style="font-weight: 700\; box-sizing: border-box\;">4th million</span>\, and serves as a&nbsp\;<span style="font-weight: 700\; box-sizing: border-box\;">Regional Vice President\, Platinum Executive Director</span>\, and&nbsp\;<span style="font-weight: 700\; box-sizing: border-box\;">a leader who has protected and empowered over 14\,000 families.</span>&nbsp\;His insights into&nbsp\;<span style="font-weight: 700\; box-sizing: border-box\;">financial growth\, leadership\, and leveraging a powerful system</span>&nbsp\;will help you unlock the next level in your business and life!</p>\n\n<p style="margin: 0px\; padding: 10px 0px 0px\; box-sizing: border-box\; font-size: 16px\; line-height: 1.5rem\; color: rgb(111\, 114\, 135)\; font-family: &quot\;Neue Plak&quot\;\, -apple-system\, &quot\;system-ui&quot\;\, Roboto\, &quot\;Helvetica Neue&quot\;\, Helvetica\, Tahoma\, Arial\, sans-serif\;">&nbsp\;</p>\n\n<h2 style="margin: 0px\; padding: 10px 0px 0px\; box-sizing: border-box\; font-size: 17px\; font-weight: 600\; letter-spacing: 0.5px\; line-height: 21px\; color: rgb(30\, 10\, 60)\; font-family: &quot\;Neue Plak&quot\;\, -apple-system\, &quot\;system-ui&quot\;\, Roboto\, &quot\;Helvetica Neue&quot\;\, Helvetica\, Tahoma\, Arial\, sans-serif\;">&#128293\;&nbsp\;<span style="box-sizing: border-box\; padding-top: 0px\;">What to Expect:</span></h2>\n\n<p style="margin: 0px\; padding: 10px 0px 0px\; box-sizing: border-box\; font-size: 16px\; line-height: 1.5rem\; color: rgb(111\, 114\, 135)\; font-family: &quot\;Neue Plak&quot\;\, -apple-system\, &quot\;system-ui&quot\;\, Roboto\, &quot\;Helvetica Neue&quot\;\, Helvetica\, Tahoma\, Arial\, sans-serif\;">&#10024\; The mindset shift to unlock your harvest<br style="box-sizing: border-box\; padding-top: 0px\;" />\n&#10024\; Proven strategies to build and scale your business<br style="box-sizing: border-box\;" />\n&#10024\; Networking with like-minded\, driven individuals<br style="box-sizing: border-box\;" />\n&#10024\; A roadmap to turn your hard work into real results</p>\n
LOCATION:Santa Clara Woman's Club Adobe 3260 The Alameda Santa Clara\, CA 95050
UID:e.3535.7804
SEQUENCE:3
DTSTAMP:20260424T194135Z
URL:https://members.svcentralchamber.com/events/details/spring-into-financial-freedom-7804
END:VEVENT

END:VCALENDAR
