BEGIN:VCALENDAR
VERSION:2.0
PRODID:-//ChamberMaster//Event Calendar 2.0//EN
METHOD:PUBLISH
X-PUBLISHED-TTL:P3D
REFRESH-INTERVAL:P3D
CALSCALE:GREGORIAN
BEGIN:VEVENT
DTSTART:20090813T183000Z
DTEND:20090813T200000Z
X-MICROSOFT-CDO-ALLDAYEVENT:FALSE
SUMMARY:Successful Networking During Challenging Times-How to Mix\, Mingle & Schmooze Your Way to More Business
DESCRIPTION:Networking is one of the most effective ways to grow a successful and profitable business.  Unfortunately\, most people don't have the tips\, tools\, or techniques necessary to make the most of business or social functions.\n \nDave Sherman\, professional speaker\, trainer\, and best-selling author\, will explain how you and your employees can become amazing networking professionals and make the most of every event you attend. Participants will learn:\n\n•	How to Connect with More Power Players \n•	The Very Best Places to Network \n•	The Importance of Proper Follow-Up \n•	The Best Places for Continuing Education \nAND SO MUCH MORE!
X-ALT-DESC;FMTTYPE=text/html:Networking is one of the most effective ways to grow a successful and profitable business.  Unfortunately\, most people don't have the tips\, tools\, or techniques necessary to make the most of business or social functions.\n \nDave Sherman\, professional speaker\, trainer\, and best-selling author\, will explain how you and your employees can become amazing networking professionals and make the most of every event you attend. Participants will learn:\n\n•	How to Connect with More Power Players \n•	The Very Best Places to Network \n•	The Importance of Proper Follow-Up \n•	The Best Places for Continuing Education \nAND SO MUCH MORE!\n
LOCATION:2151 Laurelwood Road\, Santa Clara\, CA 95054
UID:e.3535.25
SEQUENCE:3
DTSTAMP:20260424T085840Z
URL:https://members.svcentralchamber.com/events/details/successful-networking-during-challenging-times-how-to-mix-mingle-schmooze-your-way-to-more-business-08-13-2009-25
END:VEVENT

END:VCALENDAR
