BEGIN:VCALENDAR
VERSION:2.0
PRODID:-//ChamberMaster//Event Calendar 2.0//EN
METHOD:PUBLISH
X-PUBLISHED-TTL:P3D
REFRESH-INTERVAL:P3D
CALSCALE:GREGORIAN
BEGIN:VEVENT
DTSTART:20260106T200000Z
DTEND:20260106T211500Z
X-MICROSOFT-CDO-ALLDAYEVENT:FALSE
SUMMARY:SVBC (Silicon Valley Business Connections)
DESCRIPTION:The Silicon Valley Business Connections (SVBC) Referral Group is a dynamic community where our expertise\, referrals\, and generosity fuel collective growth and professional success. We meet weekly to exchange referrals and build an understanding of each business.
X-ALT-DESC;FMTTYPE=text/html:The <strong>Silicon Valley Business Connections (SVBC) Referral Group</strong> is a dynamic community where our expertise\, referrals\, and generosity fuel collective growth and professional success. We meet weekly to exchange referrals and build an understanding of each business.
LOCATION:Silicon Valley Chamber 3350 Scott Blvd.\, Bld. 54\, Santa Clara\, CA 95054-3124* The meeting is also available through Zoom\, however\, we encourage you to attend in person whenever possible to build greater rapport with other members. *Location may be on-site at a member's business from time to time. Contact the team leaders to ensure you know where the meetings will be.
UID:e.3535.7571
SEQUENCE:3
DTSTAMP:20260424T014231Z
URL:https://members.svcentralchamber.com/events/details/svbc-silicon-valley-business-connections-01-06-2026-7571
END:VEVENT

END:VCALENDAR
